BEGIN:VCALENDAR
VERSION:2.0
PRODID:-//Tennis Memphis - ECPv6.15.20//NONSGML v1.0//EN
CALSCALE:GREGORIAN
METHOD:PUBLISH
X-ORIGINAL-URL:https://tennismemphis.org
X-WR-CALDESC:Events for Tennis Memphis
REFRESH-INTERVAL;VALUE=DURATION:PT1H
X-Robots-Tag:noindex
X-PUBLISHED-TTL:PT1H
BEGIN:VTIMEZONE
TZID:America/Chicago
BEGIN:DAYLIGHT
TZOFFSETFROM:-0600
TZOFFSETTO:-0500
TZNAME:CDT
DTSTART:20250309T080000
END:DAYLIGHT
BEGIN:STANDARD
TZOFFSETFROM:-0500
TZOFFSETTO:-0600
TZNAME:CST
DTSTART:20251102T070000
END:STANDARD
BEGIN:DAYLIGHT
TZOFFSETFROM:-0600
TZOFFSETTO:-0500
TZNAME:CDT
DTSTART:20260308T080000
END:DAYLIGHT
BEGIN:STANDARD
TZOFFSETFROM:-0500
TZOFFSETTO:-0600
TZNAME:CST
DTSTART:20261101T070000
END:STANDARD
BEGIN:DAYLIGHT
TZOFFSETFROM:-0600
TZOFFSETTO:-0500
TZNAME:CDT
DTSTART:20270314T080000
END:DAYLIGHT
BEGIN:STANDARD
TZOFFSETFROM:-0500
TZOFFSETTO:-0600
TZNAME:CST
DTSTART:20271107T070000
END:STANDARD
END:VTIMEZONE
BEGIN:VEVENT
DTSTART;VALUE=DATE:20260204
DTEND;VALUE=DATE:20260415
DTSTAMP:20260422T035427
CREATED:20260104T213343Z
LAST-MODIFIED:20260308T012427Z
UID:10002036-1770163200-1776211199@tennismemphis.org
SUMMARY:Junior Development Tennis - 2026 Winter Session 3
DESCRIPTION:Junior Development Tennis – 2026 Winter Session 3\nSession 3 is here! January 5 – March 14\, 2026.  All Skill Levels. All Ages. Sign up today! \nClick on your Community Tennis Center for detailed information: \nBellevue Tennis Center Program Information \nEldon Roark/Whitehaven Tennis Center Program Information \nLeftwich Tennis Center Program Information \nRaleigh-Pierotti Tennis Center Program Information \nWolbrecht Tennis Center Program Information
URL:https://tennismemphis.org/event/junior-development-tennis-2026-winter-session-3/
LOCATION:Bellevue Tennis Center\, 1239 Orgill Avenue\, Memphis\, United States
CATEGORIES:Junior Development
ATTACH;FMTTYPE=image/png:https://tennismemphis.org/wp-content/uploads/2026/01/junior-3.png
END:VEVENT
BEGIN:VEVENT
DTSTART;TZID=America/Chicago:20260228T180000
DTEND;TZID=America/Chicago:20260304T190000
DTSTAMP:20260422T035427
CREATED:20260227T201749Z
LAST-MODIFIED:20260307T001100Z
UID:10003032-1772301600-1772650800@tennismemphis.org
SUMMARY:Beginner Tennis Six-Week Series | Play Tennis Fast 101 - WEDNESDAYS
DESCRIPTION:Learn to play tennis fast with Coach Jeff Suber!\nWelcome to Tennis 101 and let the fun begin! If you just decided that tennis is something you would like to try then this is the class for YOU! This class is a six-week beginner series that focuses on form and fundamentals so you have the building blocks for success. \n–CLASSES ARE FROM 6 – 7PM EVERY WEDNESDAY FOR SIX-WEEKS — \nPlease follow the sign up link or email the Tennis Office\, tennisoffice@tennismemphis.org\, with any questions. \nA six week series designed for those new to the sport!
URL:https://tennismemphis.org/event/beginner-tennis-six-week-series-play-tennis-fast-101-wednesdays/
LOCATION:Leftwich Tennis Center\, 4145 Southern Avenue\, Memphis\, TN\, 38117\, United States
CATEGORIES:Adult Clinics
ATTACH;FMTTYPE=image/png:https://tennismemphis.org/wp-content/uploads/2026/02/WED-Tennis-for-Beginners.png
END:VEVENT
BEGIN:VEVENT
DTSTART;TZID=America/Chicago:20260228T180000
DTEND;TZID=America/Chicago:20260305T190000
DTSTAMP:20260422T035427
CREATED:20260227T201607Z
LAST-MODIFIED:20260307T001047Z
UID:10003031-1772301600-1772737200@tennismemphis.org
SUMMARY:Beginner Tennis Six-Week Series | Play Tennis Fast 101 - THURSDAYS
DESCRIPTION:Learn to play tennis fast with Coach Jeff Suber!\nWelcome to Tennis 101 and let the fun begin! If you just decided that tennis is something you would like to try then this is the class for YOU! This class is a six-week beginner series that focuses on form and fundamentals so you have the building blocks for success. \n–CLASSES ARE FROM 6 – 7PM EVERY THURSDAY FOR SIX-WEEKS — \nPlease follow the sign up link or email the Tennis Office\, tennisoffice@tennismemphis.org\, with any questions. \nA six week series designed for those new to the sport!
URL:https://tennismemphis.org/event/beginner-tennis-six-week-series-play-tennis-fast-101-thursdays/
LOCATION:Leftwich Tennis Center\, 4145 Southern Avenue\, Memphis\, TN\, 38117\, United States
CATEGORIES:Adult Clinics
ATTACH;FMTTYPE=image/png:https://tennismemphis.org/wp-content/uploads/2026/02/THU-Tennis-for-Beginners.png
END:VEVENT
BEGIN:VEVENT
DTSTART;TZID=America/Chicago:20260303T063000
DTEND;TZID=America/Chicago:20260303T073000
DTSTAMP:20260422T035427
CREATED:20260102T141855Z
LAST-MODIFIED:20260307T003801Z
UID:10001834-1772519400-1772523000@tennismemphis.org
SUMMARY:Rise & Grind TUESDAYS | All Skill Levels
DESCRIPTION:Coach Jon Bell presents Rise & Grind Tuesdays!\n\n\nStart your day strong with our Rise & Grind clinic! Designed for players of all levels (2.5 and up)\, this morning session is all about high reps\, fast pace\, and focused improvement. \nExpect plenty of ball feeding and continuous movement as you work through a variety of stroke drills aimed at building consistency\, improving technique\, and sharpening your overall game. Whether you’re just getting back into tennis or looking to refine your skills\, you’ll leave the court energized and ready to take on the day. \nAll levels welcome. Just bring your racket\, your hustle\, and your coffee can wait. \nPlease follow the sign up link or email the Tennis Office\, tennisoffice@tennismemphis.org\, with any questions.
URL:https://tennismemphis.org/event/rise-grind-tuesdays-all-skill-levels/2026-03-03/
LOCATION:Leftwich Tennis Center\, 4145 Southern Avenue\, Memphis\, TN\, 38117\, United States
CATEGORIES:Adult Clinics
ATTACH;FMTTYPE=image/png:https://tennismemphis.org/wp-content/uploads/2026/01/Rise-Grind-Tuesdays-2026-1.png
END:VEVENT
BEGIN:VEVENT
DTSTART;TZID=America/Chicago:20260303T093000
DTEND;TZID=America/Chicago:20260303T110000
DTSTAMP:20260422T035427
CREATED:20260105T053719Z
LAST-MODIFIED:20260307T003756Z
UID:10002203-1772530200-1772535600@tennismemphis.org
SUMMARY:Intermediate Drills | Skill Level 3.0-3.5 - TUESDAYS
DESCRIPTION:Coach Donny Flowers & Coach Jon Bell presents 3.0-3.5 Intermediate Drills!\nCalling all intermediate 3.0 – 3.5 players! Come and laugh\, cheer and compete while you learn some new strategies for your game! Warm up with a drill and get right into the theme of the day!  \n\n\n— 16 Players | 2 Courts — \nPlease follow the sign up link or email the Tennis Office\, tennisoffice@tennismemphis.org\, with any questions.
URL:https://tennismemphis.org/event/intermediate-drills-skill-level-3-0-3-5-tuesdays/2026-03-03/
LOCATION:Leftwich Tennis Center\, 4145 Southern Avenue\, Memphis\, TN\, 38117\, United States
CATEGORIES:Adult Clinics
ATTACH;FMTTYPE=image/png:https://tennismemphis.org/wp-content/uploads/2026/01/Green-And-White-Modern-Tennis-Match-Instagram-Post-Real-Estate-Flyer.png
END:VEVENT
BEGIN:VEVENT
DTSTART;TZID=America/Chicago:20260303T103000
DTEND;TZID=America/Chicago:20260303T133000
DTSTAMP:20260422T035427
CREATED:20260108T201735Z
LAST-MODIFIED:20260307T003605Z
UID:10002618-1772533800-1772544600@tennismemphis.org
SUMMARY:Senior Tennis Meetup | All Skill Levels - TUESDAYS
DESCRIPTION:Senior Tennis Meetup TUESDAYS\nSenior Tennis Meetup – Player Guidelines \nArrive\, choose a partner\, and have a great time. Keep it friendly. Keep the ball moving. We play\ndoubles and mixed doubles on indoor courts. Register online or drop in.\nBring: your own racquet and balls. \nCourt fee: $5 per player. \nEldon Roark Tennis Center | 1500 Finley Road | Memphis\, Tennessee 38116 | 901.332.0546 \nTuesdays\, 10:30 AM – 1:30 PM \nHow it works\nShow up a few minutes early. Say hello. Form a court of four. Play\, mix\, and switch partners as\nyou like. Laughter and good sportsmanship are the only must-haves. \nRegistration\nPlease register online before your visit to help us plan courts \nDrop-in is welcome – first-come\, first-served. \nQuestions? \nCoach Keith Gibson — kgibson@tennismemphis.org \nSee you on court! \nPlease follow the sign up link or email the Tennis Office\, tennisoffice@tennismemphis.org\, with any questions.
URL:https://tennismemphis.org/event/senior-tennis-meetup-tuesdays-2/2026-03-03/
LOCATION:Eldon Roark Tennis Center\, 1500 Finley RD\, Memphis\, TN\, 38116\, United States
CATEGORIES:Adult Clinics
ATTACH;FMTTYPE=image/png:https://tennismemphis.org/wp-content/uploads/2026/01/SENIOR-TENNIS-TUE-FRI-1.png
END:VEVENT
BEGIN:VEVENT
DTSTART;TZID=America/Chicago:20260303T180000
DTEND;TZID=America/Chicago:20260303T193000
DTSTAMP:20260422T035427
CREATED:20260105T152130Z
LAST-MODIFIED:20260307T003750Z
UID:10002255-1772560800-1772566200@tennismemphis.org
SUMMARY:Ladies Only Intermediate Live Ball | Skill Level 3.0-3.5 - TUESDAYS
DESCRIPTION:Ladies Only – Intermediate Live Ball with Coach Donny Flowers\n3.0-3.5 Ladies Only opportunity to join us for drills and point play. \n\n\n— 8 Players | 1 Courts — \nPlease follow the sign up link or email the Tennis Office\, tennisoffice@tennismemphis.org\, with any questions.
URL:https://tennismemphis.org/event/ladies-only-intermediate-live-ball-skill-level-3-0-3-5-tuesdays/2026-03-03/
LOCATION:Leftwich Tennis Center\, 4145 Southern Avenue\, Memphis\, TN\, 38117\, United States
CATEGORIES:Adult Clinics
ATTACH;FMTTYPE=image/png:https://tennismemphis.org/wp-content/uploads/2026/01/Yellow-and-Grey-Modern-Tennis-Club-Poster-1.png
END:VEVENT
BEGIN:VEVENT
DTSTART;TZID=America/Chicago:20260303T180000
DTEND;TZID=America/Chicago:20260303T193000
DTSTAMP:20260422T035427
CREATED:20260110T205908Z
LAST-MODIFIED:20260307T003743Z
UID:10002825-1772560800-1772566200@tennismemphis.org
SUMMARY:Ladies Only Intermediate Live Ball | Skill Level 3.0-3.5 - TUESDAYS
DESCRIPTION:Ladies Only – Intermediate Live Ball with Coach Kristen Eley\n3.0-3.5 Ladies Only opportunity to join us for drills and point play. \n\n\n— 8 Players | 1 Courts — \nPlease follow the sign up link or email the Tennis Office\, tennisoffice@tennismemphis.org\, with any questions.
URL:https://tennismemphis.org/event/lo/2026-03-03/
LOCATION:Eldon Roark Tennis Center\, 1500 Finley RD\, Memphis\, TN\, 38116\, United States
CATEGORIES:Adult Clinics
ATTACH;FMTTYPE=image/png:https://tennismemphis.org/wp-content/uploads/2026/01/Ladies-Only-Coach-Kristen-Eley.png
END:VEVENT
END:VCALENDAR