BEGIN:VCALENDAR
VERSION:2.0
PRODID:-//Tennis Memphis - ECPv6.15.20//NONSGML v1.0//EN
CALSCALE:GREGORIAN
METHOD:PUBLISH
X-WR-CALNAME:Tennis Memphis
X-ORIGINAL-URL:https://tennismemphis.org
X-WR-CALDESC:Events for Tennis Memphis
REFRESH-INTERVAL;VALUE=DURATION:PT1H
X-Robots-Tag:noindex
X-PUBLISHED-TTL:PT1H
BEGIN:VTIMEZONE
TZID:America/Chicago
BEGIN:DAYLIGHT
TZOFFSETFROM:-0600
TZOFFSETTO:-0500
TZNAME:CDT
DTSTART:20250309T080000
END:DAYLIGHT
BEGIN:STANDARD
TZOFFSETFROM:-0500
TZOFFSETTO:-0600
TZNAME:CST
DTSTART:20251102T070000
END:STANDARD
BEGIN:DAYLIGHT
TZOFFSETFROM:-0600
TZOFFSETTO:-0500
TZNAME:CDT
DTSTART:20260308T080000
END:DAYLIGHT
BEGIN:STANDARD
TZOFFSETFROM:-0500
TZOFFSETTO:-0600
TZNAME:CST
DTSTART:20261101T070000
END:STANDARD
BEGIN:DAYLIGHT
TZOFFSETFROM:-0600
TZOFFSETTO:-0500
TZNAME:CDT
DTSTART:20270314T080000
END:DAYLIGHT
BEGIN:STANDARD
TZOFFSETFROM:-0500
TZOFFSETTO:-0600
TZNAME:CST
DTSTART:20271107T070000
END:STANDARD
END:VTIMEZONE
BEGIN:VEVENT
DTSTART;VALUE=DATE:20260601
DTEND;VALUE=DATE:20260801
DTSTAMP:20260422T050525
CREATED:20260307T221403Z
LAST-MODIFIED:20260310T005557Z
UID:10003412-1780272000-1785542399@tennismemphis.org
SUMMARY:2026 NJTL Summer Camp
DESCRIPTION:2026 NJTL Summer Camp\n \n  \n  \n  \n  \nJune 1 – July 31\, 2026.  Ages 5 – 18. Spots are Limited. Sign up today! \nLeftwich Tennis Center\nRed Ball Group\nMonday – Friday | 8AM to 11AM | $300 Weekly Rate | $75 Drop-In Rate\n\nOrange Ball Group\nMonday – Friday | 8AM to 11AM | $300 Weekly Rate | $75 Drop-In Rate\n\nGreen Ball Group\nMonday – Friday | 9AM to 12PM | $300 Weekly Rate | $75 Drop-In Rate\n\nYellow Ball Group\nMonday – Friday | 9AM to 12M | $300 Weekly Rate | $75 Drop-In Rate\n\nCompetition Group\nMonday – Friday | 9AM to 12PM | $300 Weekly Rate | $75 Drop-In Rate\n\nElite Group\nMonday – Friday | 1PM to 4PM | $300 Weekly Rate | $75 Drop-In Rate\n\nYellow Ball Afternoon Camp\nMonday – Friday | 1PM – 3PM | $200 Weekly Rate |  $50 Drop-In Rate\n\nCompetition Afternoon Camp\nMonday – Friday | 1PM – 3PM | $200 Weekly Rate |  $50 Drop-In Rate\nRaleigh Tennis Center\nMonday – Friday | 8AM – 12PM |  Ages 5 – 18 | $100 Weekly Rate | No Drop-Ins \nBellevue Tennis Center\nMonday – Friday | 8AM – 12PM |  Ages 5 – 18 | $100 Weekly Rate | No Drop-Ins \nEldon Roark Tennis Center\nMonday – Friday | 8AM – 12PM |  Ages 7 – 18 | $100 Weekly Rate | No Drop-Ins \nWolbrecht Tennis Center\nMonday – Friday | 8AM – 12PM |  Ages 5 – 18 | $100 Weekly Rate | No Drop-Ins\n\n  \nFor questions regarding 2026 Summer Camp please email tennisoffice@tennismemphis.org.
URL:https://tennismemphis.org/event/2026-njtl-summer-camp/
LOCATION:Leftwich Tennis Center\, 4145 Southern Avenue\, Memphis\, TN\, 38117\, United States
CATEGORIES:Spring/Summer Camps
ATTACH;FMTTYPE=image/png:https://tennismemphis.org/wp-content/uploads/2026/03/2026-NJTL-Summer-Camp-w-QR-Final.png
END:VEVENT
BEGIN:VEVENT
DTSTART;TZID=America/Chicago:20260624T093000
DTEND;TZID=America/Chicago:20260624T110000
DTSTAMP:20260422T050525
CREATED:20260102T005311Z
LAST-MODIFIED:20260307T003737Z
UID:10000444-1782293400-1782298800@tennismemphis.org
SUMMARY:Intermediate Live Ball | Skill Level 3.0-3.5 - WEDNESDAYS
DESCRIPTION:Coach Donny Flowers presents 3.0-3.5 Intermediate Live Ball!\nCalling all intermediate 3.0 – 3.5 players! Come and laugh\, cheer and compete while you learn some new strategies for your game! Warmup with a drill and get right into the theme of the day!  \n\n\nCoach Donny Flowers — 8 Players | 1 Court — \nPlease follow the sign up link or email the Tennis Office\, tennisoffice@tennismemphis.org\, with any questions.
URL:https://tennismemphis.org/event/intermediate-live-ball-skill-level-3-0-3-5-wednesdays/2026-06-24/
LOCATION:Leftwich Tennis Center\, 4145 Southern Avenue\, Memphis\, TN\, 38117\, United States
CATEGORIES:Adult Clinics
ATTACH;FMTTYPE=image/png:https://tennismemphis.org/wp-content/uploads/2026/01/Live-Ball-Intermediate-WEDNESDAYS.png
END:VEVENT
BEGIN:VEVENT
DTSTART;TZID=America/Chicago:20260624T093000
DTEND;TZID=America/Chicago:20260624T110000
DTSTAMP:20260422T050525
CREATED:20260102T032451Z
LAST-MODIFIED:20260307T003722Z
UID:10001747-1782293400-1782298800@tennismemphis.org
SUMMARY:Live Point Play | Skill Level 2.0-2.5 - WEDNESDAYS
DESCRIPTION:Live Point Play for Advanced Beginners\nJump in and test the waters with our 2.0-2.5 Drill and play class! This is the class for anybody who has just figured out the basics\, but wants to keep learning in a semi-competitive environment! With drills and point play\, this clinic is for YOU! \nCoach Jon Bell – 8 Players | 1 Court – \nPlease follow the sign up link or email the Tennis Office (tennisoffice@tennismemphis.org) with any questions.
URL:https://tennismemphis.org/event/live-point-play-skill-level-2-0-2-5-wednesdays/2026-06-24/
LOCATION:Leftwich Tennis Center\, 4145 Southern Avenue\, Memphis\, TN\, 38117\, United States
CATEGORIES:Adult Clinics
ATTACH;FMTTYPE=image/png:https://tennismemphis.org/wp-content/uploads/2026/01/Live-Point-Play-WEDNESDAYS.png
END:VEVENT
BEGIN:VEVENT
DTSTART;TZID=America/Chicago:20260624T133000
DTEND;TZID=America/Chicago:20260624T150000
DTSTAMP:20260422T050525
CREATED:20260108T161430Z
LAST-MODIFIED:20260307T003715Z
UID:10002736-1782307800-1782313200@tennismemphis.org
SUMMARY:Senior Tennis Meetup | All Skill Levels - WEDNESDAYS
DESCRIPTION:Senior Tennis Meetup WEDNESDAYS\nSenior Tennis Meetup – Player Guidelines \nArrive\, choose a partner\, and have a great time. Keep it friendly. Keep the ball moving. We play\ndoubles and mixed doubles on indoor courts. Register online or drop in.\nBring: your own racquet and balls. \nCourt fee: $5 per player. \nLeftwich Tennis Center\n4145 Southern Ave\, Memphis\, Tennessee \nWednesdays\, 1:30 P.M. – 3:00 P.M. \nHow it works\nShow up a few minutes early. Say hello. Form a court of four. Play\, mix\, and switch partners as\nyou like. Laughter and good sportsmanship are the only must-haves. \nRules of Play\n● Play mini-sets to 4 games (no-ad scoring). Rotate after each mini-set to allow new\ngroups to form quickly.\n● Winners can stay on the court for one more set; other players rotate to the next court.\n● Mix partners each round to keep it social and balanced.\n● Keep warm-ups brief\, 15 minutes or less\, so everyone gets more playing time.\nConnecting Groups\n● Use a simple rotation: after a mini-set\, two players step off and two fresh players step in.\n● If courts are full\, create a “waiting bench” and rotate in the next two.\n● Encourage mixing by pairing up with someone you haven’t played with yet that day. \nRegistration\nPlease register online before your visit to help us plan courts \nDrop-in is welcome – first-come\, first-served. \nQuestions? \nCoach Keith Gibson — kgibson@tennismemphis.org \nSee you on court! \n– 16 Players | 2 Courts – \nPlease follow the sign up link or email the Tennis Office\, tennisoffice@tennismemphis.org\, with any questions.
URL:https://tennismemphis.org/event/senior-tennis-meetup-wednesdays/2026-06-24/
LOCATION:Leftwich Tennis Center\, 4145 Southern Avenue\, Memphis\, TN\, 38117\, United States
CATEGORIES:Adult Clinics
ATTACH;FMTTYPE=image/png:https://tennismemphis.org/wp-content/uploads/2026/01/SENIOR-TENNIS-WED-2.png
END:VEVENT
BEGIN:VEVENT
DTSTART;TZID=America/Chicago:20260624T173000
DTEND;TZID=America/Chicago:20260624T190000
DTSTAMP:20260422T050525
CREATED:20260110T214443Z
LAST-MODIFIED:20260307T003709Z
UID:10002895-1782322200-1782327600@tennismemphis.org
SUMMARY:Advanced Beginner Live Ball | Skill Level 2.0-2.5 - WEDNESDAYS
DESCRIPTION:Coach Jesse Boyd presents 2.0-2.5 Advanced Beginner Live Ball\nJump in and test the waters with our 2.0-2.5 Live Ball class! This is the class for anybody who has just figured out the basics\, but wants to keep learning in a semi-competitive environment! \n— 8 Players | 1 Court — \nPlease follow the sign up link or email the Tennis Office\, tennisoffice@tennismemphis.org\, with any questions.
URL:https://tennismemphis.org/event/advanced-beginner-live-ball-wednesdays/2026-06-24/
LOCATION:Leftwich Tennis Center\, 4145 Southern Avenue\, Memphis\, TN\, 38117\, United States
CATEGORIES:Adult Clinics
ATTACH;FMTTYPE=image/png:https://tennismemphis.org/wp-content/uploads/2026/01/ADVANCED-BEGINNER-WEDNESDAYS-1.png
END:VEVENT
BEGIN:VEVENT
DTSTART;TZID=America/Chicago:20260624T190000
DTEND;TZID=America/Chicago:20260624T203000
DTSTAMP:20260422T050525
CREATED:20260105T022208Z
LAST-MODIFIED:20260307T003656Z
UID:10002167-1782327600-1782333000@tennismemphis.org
SUMMARY:Night-Time Showdown | Skill Level 3.0+ - WEDNESDAYS
DESCRIPTION:Coach Jesse Boyd presents Night-Time Showdown 3.0+!\n\n\nAll 3.0+ USTA rating are welcome to Monday and Wednesday Night Showdowns. Let the games begin! \n— 16 Players | 2 Courts — \nPlease follow the sign up link or email the Tennis Office\, tennisoffice@tennismemphis.org\, with any questions.
URL:https://tennismemphis.org/event/night-time-showdown-3-0-wednesdays/2026-06-24/
LOCATION:Leftwich Tennis Center\, 4145 Southern Avenue\, Memphis\, TN\, 38117\, United States
CATEGORIES:Adult Clinics
ATTACH;FMTTYPE=image/png:https://tennismemphis.org/wp-content/uploads/2026/01/Green-Neon-Green-Modern-Tennis-Tournament-Facebook-Post-Real-Estate-Flyer-1.png
END:VEVENT
END:VCALENDAR