BEGIN:VCALENDAR
VERSION:2.0
PRODID:-//Tennis Memphis - ECPv6.15.20//NONSGML v1.0//EN
CALSCALE:GREGORIAN
METHOD:PUBLISH
X-ORIGINAL-URL:https://tennismemphis.org
X-WR-CALDESC:Events for Tennis Memphis
REFRESH-INTERVAL;VALUE=DURATION:PT1H
X-Robots-Tag:noindex
X-PUBLISHED-TTL:PT1H
BEGIN:VTIMEZONE
TZID:America/Chicago
BEGIN:DAYLIGHT
TZOFFSETFROM:-0600
TZOFFSETTO:-0500
TZNAME:CDT
DTSTART:20250309T080000
END:DAYLIGHT
BEGIN:STANDARD
TZOFFSETFROM:-0500
TZOFFSETTO:-0600
TZNAME:CST
DTSTART:20251102T070000
END:STANDARD
BEGIN:DAYLIGHT
TZOFFSETFROM:-0600
TZOFFSETTO:-0500
TZNAME:CDT
DTSTART:20260308T080000
END:DAYLIGHT
BEGIN:STANDARD
TZOFFSETFROM:-0500
TZOFFSETTO:-0600
TZNAME:CST
DTSTART:20261101T070000
END:STANDARD
BEGIN:DAYLIGHT
TZOFFSETFROM:-0600
TZOFFSETTO:-0500
TZNAME:CDT
DTSTART:20270314T080000
END:DAYLIGHT
BEGIN:STANDARD
TZOFFSETFROM:-0500
TZOFFSETTO:-0600
TZNAME:CST
DTSTART:20271107T070000
END:STANDARD
END:VTIMEZONE
BEGIN:VEVENT
DTSTART;VALUE=DATE:20260601
DTEND;VALUE=DATE:20260801
DTSTAMP:20260422T071404
CREATED:20260307T221403Z
LAST-MODIFIED:20260310T005557Z
UID:10003412-1780272000-1785542399@tennismemphis.org
SUMMARY:2026 NJTL Summer Camp
DESCRIPTION:2026 NJTL Summer Camp\n \n  \n  \n  \n  \nJune 1 – July 31\, 2026.  Ages 5 – 18. Spots are Limited. Sign up today! \nLeftwich Tennis Center\nRed Ball Group\nMonday – Friday | 8AM to 11AM | $300 Weekly Rate | $75 Drop-In Rate\n\nOrange Ball Group\nMonday – Friday | 8AM to 11AM | $300 Weekly Rate | $75 Drop-In Rate\n\nGreen Ball Group\nMonday – Friday | 9AM to 12PM | $300 Weekly Rate | $75 Drop-In Rate\n\nYellow Ball Group\nMonday – Friday | 9AM to 12M | $300 Weekly Rate | $75 Drop-In Rate\n\nCompetition Group\nMonday – Friday | 9AM to 12PM | $300 Weekly Rate | $75 Drop-In Rate\n\nElite Group\nMonday – Friday | 1PM to 4PM | $300 Weekly Rate | $75 Drop-In Rate\n\nYellow Ball Afternoon Camp\nMonday – Friday | 1PM – 3PM | $200 Weekly Rate |  $50 Drop-In Rate\n\nCompetition Afternoon Camp\nMonday – Friday | 1PM – 3PM | $200 Weekly Rate |  $50 Drop-In Rate\nRaleigh Tennis Center\nMonday – Friday | 8AM – 12PM |  Ages 5 – 18 | $100 Weekly Rate | No Drop-Ins \nBellevue Tennis Center\nMonday – Friday | 8AM – 12PM |  Ages 5 – 18 | $100 Weekly Rate | No Drop-Ins \nEldon Roark Tennis Center\nMonday – Friday | 8AM – 12PM |  Ages 7 – 18 | $100 Weekly Rate | No Drop-Ins \nWolbrecht Tennis Center\nMonday – Friday | 8AM – 12PM |  Ages 5 – 18 | $100 Weekly Rate | No Drop-Ins\n\n  \nFor questions regarding 2026 Summer Camp please email tennisoffice@tennismemphis.org.
URL:https://tennismemphis.org/event/2026-njtl-summer-camp/
LOCATION:Leftwich Tennis Center\, 4145 Southern Avenue\, Memphis\, TN\, 38117\, United States
CATEGORIES:Spring/Summer Camps
ATTACH;FMTTYPE=image/png:https://tennismemphis.org/wp-content/uploads/2026/03/2026-NJTL-Summer-Camp-w-QR-Final.png
END:VEVENT
BEGIN:VEVENT
DTSTART;TZID=America/Chicago:20260707T063000
DTEND;TZID=America/Chicago:20260707T073000
DTSTAMP:20260422T071404
CREATED:20260102T141855Z
LAST-MODIFIED:20260307T003801Z
UID:10001852-1783405800-1783409400@tennismemphis.org
SUMMARY:Rise & Grind TUESDAYS | All Skill Levels
DESCRIPTION:Coach Jon Bell presents Rise & Grind Tuesdays!\n\n\nStart your day strong with our Rise & Grind clinic! Designed for players of all levels (2.5 and up)\, this morning session is all about high reps\, fast pace\, and focused improvement. \nExpect plenty of ball feeding and continuous movement as you work through a variety of stroke drills aimed at building consistency\, improving technique\, and sharpening your overall game. Whether you’re just getting back into tennis or looking to refine your skills\, you’ll leave the court energized and ready to take on the day. \nAll levels welcome. Just bring your racket\, your hustle\, and your coffee can wait. \nPlease follow the sign up link or email the Tennis Office\, tennisoffice@tennismemphis.org\, with any questions.
URL:https://tennismemphis.org/event/rise-grind-tuesdays-all-skill-levels/2026-07-07/
LOCATION:Leftwich Tennis Center\, 4145 Southern Avenue\, Memphis\, TN\, 38117\, United States
CATEGORIES:Adult Clinics
ATTACH;FMTTYPE=image/png:https://tennismemphis.org/wp-content/uploads/2026/01/Rise-Grind-Tuesdays-2026-1.png
END:VEVENT
BEGIN:VEVENT
DTSTART;TZID=America/Chicago:20260707T093000
DTEND;TZID=America/Chicago:20260707T110000
DTSTAMP:20260422T071404
CREATED:20260105T053719Z
LAST-MODIFIED:20260307T003756Z
UID:10002221-1783416600-1783422000@tennismemphis.org
SUMMARY:Intermediate Drills | Skill Level 3.0-3.5 - TUESDAYS
DESCRIPTION:Coach Donny Flowers & Coach Jon Bell presents 3.0-3.5 Intermediate Drills!\nCalling all intermediate 3.0 – 3.5 players! Come and laugh\, cheer and compete while you learn some new strategies for your game! Warm up with a drill and get right into the theme of the day!  \n\n\n— 16 Players | 2 Courts — \nPlease follow the sign up link or email the Tennis Office\, tennisoffice@tennismemphis.org\, with any questions.
URL:https://tennismemphis.org/event/intermediate-drills-skill-level-3-0-3-5-tuesdays/2026-07-07/
LOCATION:Leftwich Tennis Center\, 4145 Southern Avenue\, Memphis\, TN\, 38117\, United States
CATEGORIES:Adult Clinics
ATTACH;FMTTYPE=image/png:https://tennismemphis.org/wp-content/uploads/2026/01/Green-And-White-Modern-Tennis-Match-Instagram-Post-Real-Estate-Flyer.png
END:VEVENT
BEGIN:VEVENT
DTSTART;TZID=America/Chicago:20260707T103000
DTEND;TZID=America/Chicago:20260707T133000
DTSTAMP:20260422T071404
CREATED:20260108T201735Z
LAST-MODIFIED:20260307T003605Z
UID:10002636-1783420200-1783431000@tennismemphis.org
SUMMARY:Senior Tennis Meetup | All Skill Levels - TUESDAYS
DESCRIPTION:Senior Tennis Meetup TUESDAYS\nSenior Tennis Meetup – Player Guidelines \nArrive\, choose a partner\, and have a great time. Keep it friendly. Keep the ball moving. We play\ndoubles and mixed doubles on indoor courts. Register online or drop in.\nBring: your own racquet and balls. \nCourt fee: $5 per player. \nEldon Roark Tennis Center | 1500 Finley Road | Memphis\, Tennessee 38116 | 901.332.0546 \nTuesdays\, 10:30 AM – 1:30 PM \nHow it works\nShow up a few minutes early. Say hello. Form a court of four. Play\, mix\, and switch partners as\nyou like. Laughter and good sportsmanship are the only must-haves. \nRegistration\nPlease register online before your visit to help us plan courts \nDrop-in is welcome – first-come\, first-served. \nQuestions? \nCoach Keith Gibson — kgibson@tennismemphis.org \nSee you on court! \nPlease follow the sign up link or email the Tennis Office\, tennisoffice@tennismemphis.org\, with any questions.
URL:https://tennismemphis.org/event/senior-tennis-meetup-tuesdays-2/2026-07-07/
LOCATION:Eldon Roark Tennis Center\, 1500 Finley RD\, Memphis\, TN\, 38116\, United States
CATEGORIES:Adult Clinics
ATTACH;FMTTYPE=image/png:https://tennismemphis.org/wp-content/uploads/2026/01/SENIOR-TENNIS-TUE-FRI-1.png
END:VEVENT
BEGIN:VEVENT
DTSTART;TZID=America/Chicago:20260707T180000
DTEND;TZID=America/Chicago:20260707T193000
DTSTAMP:20260422T071404
CREATED:20260105T152130Z
LAST-MODIFIED:20260307T003750Z
UID:10002273-1783447200-1783452600@tennismemphis.org
SUMMARY:Ladies Only Intermediate Live Ball | Skill Level 3.0-3.5 - TUESDAYS
DESCRIPTION:Ladies Only – Intermediate Live Ball with Coach Donny Flowers\n3.0-3.5 Ladies Only opportunity to join us for drills and point play. \n\n\n— 8 Players | 1 Courts — \nPlease follow the sign up link or email the Tennis Office\, tennisoffice@tennismemphis.org\, with any questions.
URL:https://tennismemphis.org/event/ladies-only-intermediate-live-ball-skill-level-3-0-3-5-tuesdays/2026-07-07/
LOCATION:Leftwich Tennis Center\, 4145 Southern Avenue\, Memphis\, TN\, 38117\, United States
CATEGORIES:Adult Clinics
ATTACH;FMTTYPE=image/png:https://tennismemphis.org/wp-content/uploads/2026/01/Yellow-and-Grey-Modern-Tennis-Club-Poster-1.png
END:VEVENT
BEGIN:VEVENT
DTSTART;TZID=America/Chicago:20260707T180000
DTEND;TZID=America/Chicago:20260707T193000
DTSTAMP:20260422T071404
CREATED:20260110T205908Z
LAST-MODIFIED:20260307T003743Z
UID:10002843-1783447200-1783452600@tennismemphis.org
SUMMARY:Ladies Only Intermediate Live Ball | Skill Level 3.0-3.5 - TUESDAYS
DESCRIPTION:Ladies Only – Intermediate Live Ball with Coach Kristen Eley\n3.0-3.5 Ladies Only opportunity to join us for drills and point play. \n\n\n— 8 Players | 1 Courts — \nPlease follow the sign up link or email the Tennis Office\, tennisoffice@tennismemphis.org\, with any questions.
URL:https://tennismemphis.org/event/lo/2026-07-07/
LOCATION:Eldon Roark Tennis Center\, 1500 Finley RD\, Memphis\, TN\, 38116\, United States
CATEGORIES:Adult Clinics
ATTACH;FMTTYPE=image/png:https://tennismemphis.org/wp-content/uploads/2026/01/Ladies-Only-Coach-Kristen-Eley.png
END:VEVENT
END:VCALENDAR