BEGIN:VCALENDAR
VERSION:2.0
PRODID:-//Tennis Memphis - ECPv6.15.20//NONSGML v1.0//EN
CALSCALE:GREGORIAN
METHOD:PUBLISH
X-ORIGINAL-URL:https://tennismemphis.org
X-WR-CALDESC:Events for Tennis Memphis
REFRESH-INTERVAL;VALUE=DURATION:PT1H
X-Robots-Tag:noindex
X-PUBLISHED-TTL:PT1H
BEGIN:VTIMEZONE
TZID:America/Chicago
BEGIN:DAYLIGHT
TZOFFSETFROM:-0600
TZOFFSETTO:-0500
TZNAME:CDT
DTSTART:20250309T080000
END:DAYLIGHT
BEGIN:STANDARD
TZOFFSETFROM:-0500
TZOFFSETTO:-0600
TZNAME:CST
DTSTART:20251102T070000
END:STANDARD
BEGIN:DAYLIGHT
TZOFFSETFROM:-0600
TZOFFSETTO:-0500
TZNAME:CDT
DTSTART:20260308T080000
END:DAYLIGHT
BEGIN:STANDARD
TZOFFSETFROM:-0500
TZOFFSETTO:-0600
TZNAME:CST
DTSTART:20261101T070000
END:STANDARD
BEGIN:DAYLIGHT
TZOFFSETFROM:-0600
TZOFFSETTO:-0500
TZNAME:CDT
DTSTART:20270314T080000
END:DAYLIGHT
BEGIN:STANDARD
TZOFFSETFROM:-0500
TZOFFSETTO:-0600
TZNAME:CST
DTSTART:20271107T070000
END:STANDARD
END:VTIMEZONE
BEGIN:VEVENT
DTSTART;VALUE=DATE:20260601
DTEND;VALUE=DATE:20260801
DTSTAMP:20260422T070742
CREATED:20260307T221403Z
LAST-MODIFIED:20260310T005557Z
UID:10003412-1780272000-1785542399@tennismemphis.org
SUMMARY:2026 NJTL Summer Camp
DESCRIPTION:2026 NJTL Summer Camp\n \n  \n  \n  \n  \nJune 1 – July 31\, 2026.  Ages 5 – 18. Spots are Limited. Sign up today! \nLeftwich Tennis Center\nRed Ball Group\nMonday – Friday | 8AM to 11AM | $300 Weekly Rate | $75 Drop-In Rate\n\nOrange Ball Group\nMonday – Friday | 8AM to 11AM | $300 Weekly Rate | $75 Drop-In Rate\n\nGreen Ball Group\nMonday – Friday | 9AM to 12PM | $300 Weekly Rate | $75 Drop-In Rate\n\nYellow Ball Group\nMonday – Friday | 9AM to 12M | $300 Weekly Rate | $75 Drop-In Rate\n\nCompetition Group\nMonday – Friday | 9AM to 12PM | $300 Weekly Rate | $75 Drop-In Rate\n\nElite Group\nMonday – Friday | 1PM to 4PM | $300 Weekly Rate | $75 Drop-In Rate\n\nYellow Ball Afternoon Camp\nMonday – Friday | 1PM – 3PM | $200 Weekly Rate |  $50 Drop-In Rate\n\nCompetition Afternoon Camp\nMonday – Friday | 1PM – 3PM | $200 Weekly Rate |  $50 Drop-In Rate\nRaleigh Tennis Center\nMonday – Friday | 8AM – 12PM |  Ages 5 – 18 | $100 Weekly Rate | No Drop-Ins \nBellevue Tennis Center\nMonday – Friday | 8AM – 12PM |  Ages 5 – 18 | $100 Weekly Rate | No Drop-Ins \nEldon Roark Tennis Center\nMonday – Friday | 8AM – 12PM |  Ages 7 – 18 | $100 Weekly Rate | No Drop-Ins \nWolbrecht Tennis Center\nMonday – Friday | 8AM – 12PM |  Ages 5 – 18 | $100 Weekly Rate | No Drop-Ins\n\n  \nFor questions regarding 2026 Summer Camp please email tennisoffice@tennismemphis.org.
URL:https://tennismemphis.org/event/2026-njtl-summer-camp/
LOCATION:Leftwich Tennis Center\, 4145 Southern Avenue\, Memphis\, TN\, 38117\, United States
CATEGORIES:Spring/Summer Camps
ATTACH;FMTTYPE=image/png:https://tennismemphis.org/wp-content/uploads/2026/03/2026-NJTL-Summer-Camp-w-QR-Final.png
END:VEVENT
BEGIN:VEVENT
DTSTART;TZID=America/Chicago:20260709T090000
DTEND;TZID=America/Chicago:20260709T103000
DTSTAMP:20260422T070742
CREATED:20260102T013430Z
LAST-MODIFIED:20260307T003650Z
UID:10001137-1783587600-1783593000@tennismemphis.org
SUMMARY:Intermediate Live Ball | Skill Level 3.0-3.5 - THURSDAYS
DESCRIPTION:Coach Donny Flowers presents 3.0-3.5 Intermediate Live Ball!\nCalling all intermediate 3.0 – 3.5 players! Come and laugh\, cheer and compete while you learn some new strategies for your game! Warm up with a drill and get right into the theme of the day!  \n\n\nCoach Donny Flowers — 8 Players | 1 Court — \nPlease follow the sign up link or email the Tennis Office\, tennisoffice@tennismemphis.org\, with any questions.
URL:https://tennismemphis.org/event/intermediate-live-ball-skill-level-3-0-3-5-thursdays/2026-07-09/
LOCATION:Leftwich Tennis Center\, 4145 Southern Avenue\, Memphis\, TN\, 38117\, United States
CATEGORIES:Adult Clinics
ATTACH;FMTTYPE=image/png:https://tennismemphis.org/wp-content/uploads/2026/01/Live-Ball-Intermediate-THURSDAYS.png
END:VEVENT
BEGIN:VEVENT
DTSTART;TZID=America/Chicago:20260709T100000
DTEND;TZID=America/Chicago:20260709T113000
DTSTAMP:20260422T070742
CREATED:20260102T032256Z
LAST-MODIFIED:20260307T003641Z
UID:10001596-1783591200-1783596600@tennismemphis.org
SUMMARY:Live Point Play | Skill Level 2.0-2.5 - THURSDAYS
DESCRIPTION:Live Point Play for Advanced Beginners\nJump in and test the waters with our 2.0-2.5 Drill and play class! This is the class for anybody who has just figured out the basics\, but wants to keep learning in a semi-competitive environment! With drills and point play\, this clinic is for YOU! \nCoach Jon Bell – 8 Players | 1 Court – \nPlease follow the sign up link or email the Tennis Office\, tennisoffice@tennismemphis.org\, with any questions.
URL:https://tennismemphis.org/event/live-point-play-skill-level-2-0-2-5-thursdays/2026-07-09/
LOCATION:Leftwich Tennis Center\, 4145 Southern Avenue\, Memphis\, TN\, 38117\, United States
CATEGORIES:Adult Clinics
ATTACH;FMTTYPE=image/png:https://tennismemphis.org/wp-content/uploads/2026/01/Live-Point-Play-THURSDAYS.png
END:VEVENT
BEGIN:VEVENT
DTSTART;TZID=America/Chicago:20260709T103000
DTEND;TZID=America/Chicago:20260709T120000
DTSTAMP:20260422T070742
CREATED:20260110T225235Z
LAST-MODIFIED:20260307T003635Z
UID:10002949-1783593000-1783598400@tennismemphis.org
SUMMARY:Advanced Live Ball | Skill Level 3.5-4.0 - THURSDAYS
DESCRIPTION:Coach Trip Wills presents 3.5-4.0 Advanced Live Ball!\nThis is the best of the best! Our advanced live ball class is for 4.0+ players who want to sweat it out with a quick warm-up followed by live ball scenarios and match play. Music\, games and tactical coaching is all included in this 1.5 hour class. Learn how to crush your competition through our game based approach! \n\n\nCoach Trip Wills — 8 Players | 1 Court — \nPlease follow the sign up link or email the Tennis Office\, tennisoffice@tennismemphis.org\, with any questions.
URL:https://tennismemphis.org/event/advanced-live-ball-skill-level-3-5-4-0-thursdays/2026-07-09/
LOCATION:Leftwich Tennis Center\, 4145 Southern Avenue\, Memphis\, TN\, 38117\, United States
CATEGORIES:Adult Clinics
ATTACH;FMTTYPE=image/png:https://tennismemphis.org/wp-content/uploads/2026/01/Advanced-Live-Ball-3.5-4.0.png
END:VEVENT
BEGIN:VEVENT
DTSTART;TZID=America/Chicago:20260709T190000
DTEND;TZID=America/Chicago:20260709T203000
DTSTAMP:20260422T070742
CREATED:20260102T155748Z
LAST-MODIFIED:20260307T003622Z
UID:10002482-1783623600-1783629000@tennismemphis.org
SUMMARY:Beginner Showdown | Skill Level 101/201 - THURSDAYS
DESCRIPTION:Coach Jeff Suber presents Beginner Showdown!\n\n\nAll beginners 2.5 USTA rating and below are welcome! Using our popular PTF 101 and 201 curriculum\, we put together a bunch of games that any beginner tennis player will love! Come and bring a friend to have some fun and fitness for your Thursdays this summer! \n— 8 Players | 1 Court — \nPlease follow the sign up link or email the Tennis Office\, tennisoffice@tennismemphis.org\, with any questions.
URL:https://tennismemphis.org/event/beginner-showdown-skill-level-101/2026-07-09/
LOCATION:Leftwich Tennis Center\, 4145 Southern Avenue\, Memphis\, TN\, 38117\, United States
CATEGORIES:Adult Clinics
ATTACH;FMTTYPE=image/png:https://tennismemphis.org/wp-content/uploads/2026/01/Beginner-Showdown-THURSDAYS-1.png
END:VEVENT
END:VCALENDAR