BEGIN:VCALENDAR
VERSION:2.0
PRODID:-//Tennis Memphis - ECPv6.15.20//NONSGML v1.0//EN
CALSCALE:GREGORIAN
METHOD:PUBLISH
X-WR-CALNAME:Tennis Memphis
X-ORIGINAL-URL:https://tennismemphis.org
X-WR-CALDESC:Events for Tennis Memphis
REFRESH-INTERVAL;VALUE=DURATION:PT1H
X-Robots-Tag:noindex
X-PUBLISHED-TTL:PT1H
BEGIN:VTIMEZONE
TZID:America/Chicago
BEGIN:DAYLIGHT
TZOFFSETFROM:-0600
TZOFFSETTO:-0500
TZNAME:CDT
DTSTART:20240310T080000
END:DAYLIGHT
BEGIN:STANDARD
TZOFFSETFROM:-0500
TZOFFSETTO:-0600
TZNAME:CST
DTSTART:20241103T070000
END:STANDARD
BEGIN:DAYLIGHT
TZOFFSETFROM:-0600
TZOFFSETTO:-0500
TZNAME:CDT
DTSTART:20250309T080000
END:DAYLIGHT
BEGIN:STANDARD
TZOFFSETFROM:-0500
TZOFFSETTO:-0600
TZNAME:CST
DTSTART:20251102T070000
END:STANDARD
BEGIN:DAYLIGHT
TZOFFSETFROM:-0600
TZOFFSETTO:-0500
TZNAME:CDT
DTSTART:20260308T080000
END:DAYLIGHT
BEGIN:STANDARD
TZOFFSETFROM:-0500
TZOFFSETTO:-0600
TZNAME:CST
DTSTART:20261101T070000
END:STANDARD
BEGIN:DAYLIGHT
TZOFFSETFROM:-0600
TZOFFSETTO:-0500
TZNAME:CDT
DTSTART:20270314T080000
END:DAYLIGHT
BEGIN:STANDARD
TZOFFSETFROM:-0500
TZOFFSETTO:-0600
TZNAME:CST
DTSTART:20271107T070000
END:STANDARD
END:VTIMEZONE
BEGIN:VEVENT
DTSTART;TZID=America/Chicago:20260105T180000
DTEND;TZID=America/Chicago:20260105T193000
DTSTAMP:20260419T110715
CREATED:20260103T042743Z
LAST-MODIFIED:20260307T003824Z
UID:10001983-1767636000-1767641400@tennismemphis.org
SUMMARY:Advanced Beginner Drills | Skill Level 2.0-2.5 - MONDAYS
DESCRIPTION:Coach Donny Flowers 2.0-2.5 Advanced Beginner Drills\nJump in and test the waters with our 2.0-2.5 Drill and play class! This is the class for anybody who has just figured out the basics\, but wants to keep learning in a semi-competitive environment! \n— 8 Players | 1 Court — \nPlease follow the sign up link or email the Tennis Office\, tennisoffice@tennismemphis.org\, with any questions.
URL:https://tennismemphis.org/event/advanced-beginner-drills-skill-level-2-0-2-5-mondays/2026-01-05/
LOCATION:Leftwich Tennis Center\, 4145 Southern Avenue\, Memphis\, TN\, 38117\, United States
CATEGORIES:Adult Clinics
ATTACH;FMTTYPE=image/png:https://tennismemphis.org/wp-content/uploads/2026/01/Advanced-Beginner-Drills-MONDAYS.png
END:VEVENT
BEGIN:VEVENT
DTSTART;TZID=America/Chicago:20260105T180000
DTEND;TZID=America/Chicago:20260105T190000
DTSTAMP:20260419T110715
CREATED:20251231T062605Z
LAST-MODIFIED:20260307T003837Z
UID:10000100-1767636000-1767639600@tennismemphis.org
SUMMARY:Beginner Tennis Six-Week Series | Play Tennis Fast 101 - MONDAYS
DESCRIPTION:Learn to play tennis fast with Coach Jeff Suber!\nWelcome to Tennis 101 and let the fun begin! If you just decided that tennis is something you would like to try then this is the class for YOU! This class is a six-week beginner series that focuses on form and fundamentals so you have the building blocks for success. \n–CLASSES ARE FROM 6 – 7PM EVERY MONDAY FOR SIX-WEEKS — \nPlease follow the sign up link or email the Tennis Office\, tennisoffice@tennismemphis.org\, with any questions. \nA six week series designed for those new to the sport!
URL:https://tennismemphis.org/event/beginner-series-clinic-ptf-101/
LOCATION:Leftwich Tennis Center\, 4145 Southern Avenue\, Memphis\, TN\, 38117\, United States
CATEGORIES:Adult Clinics
ATTACH;FMTTYPE=image/png:https://tennismemphis.org/wp-content/uploads/2026/01/Tennis-for-Beginners-MONDAYS.png
END:VEVENT
BEGIN:VEVENT
DTSTART;TZID=America/Chicago:20260105T103000
DTEND;TZID=America/Chicago:20260105T120000
DTSTAMP:20260419T110715
CREATED:20260102T012909Z
LAST-MODIFIED:20260307T003844Z
UID:10000101-1767609000-1767614400@tennismemphis.org
SUMMARY:Fast Track Tennis | Skill Level 2.5-3.0 - MONDAYS
DESCRIPTION:Fast Track Tennis Mondays\nFast-Track Tennis is the adult version of a junior high performance academy. With this highly instructional class you will start to blow by your competition! Be warned now\, this class is only for those mentally tough enough to handle it! \nCourts 5 & 6 North. Coaches Jon Bell & Donny Flowers — 16 Players | 2 Courts — \nPlease follow the sign up link below or email the Tennis Office\, tennisoffice@tennismemphis.org\, with any questions. \nFast Track Tennis. Players 2.5-3.5 NTRP eligible.
URL:https://tennismemphis.org/event/fast-track-tennis-2-5-3-0-2/2026-01-05/
LOCATION:Leftwich Tennis Center\, 4145 Southern Avenue\, Memphis\, TN\, 38117\, United States
CATEGORIES:Adult Clinics
ATTACH;FMTTYPE=image/png:https://tennismemphis.org/wp-content/uploads/2026/01/Fast-Track-Tennis-MONDAYS.png
END:VEVENT
BEGIN:VEVENT
DTSTART;TZID=America/Chicago:20260103T090000
DTEND;TZID=America/Chicago:20260103T103000
DTSTAMP:20260419T110715
CREATED:20260103T042528Z
LAST-MODIFIED:20260307T003851Z
UID:10001931-1767430800-1767436200@tennismemphis.org
SUMMARY:Advanced Beginner Drills | Skill Level 2.0-2.5 - SATURDAYS
DESCRIPTION:Coach Jesse Boyd 2.0-2.5 Advanced Beginner Drills\n\n\nJump in and test the waters with our 2.0-2.5 Drill and play class! This is the class for anybody who has just figured out the basics\, but wants to keep learning in a semi-competitive environment! \n— 16 Players | 2 Courts — \nPlease follow the sign up link or email the Tennis Office\, tennisoffice@tennismemphis.org\, with any questions.
URL:https://tennismemphis.org/event/advanced-beginner-drills-skill-level-2-0-2-5-saturdays/2026-01-03/
LOCATION:Leftwich Tennis Center\, 4145 Southern Avenue\, Memphis\, TN\, 38117\, United States
CATEGORIES:Adult Clinics
ATTACH;FMTTYPE=image/png:https://tennismemphis.org/wp-content/uploads/2026/01/Advanced-Beginner-Drills-SATURDAYS.png
END:VEVENT
BEGIN:VEVENT
DTSTART;TZID=America/Chicago:20260103T090000
DTEND;TZID=America/Chicago:20260103T103000
DTSTAMP:20260419T110715
CREATED:20260102T015003Z
LAST-MODIFIED:20260307T003858Z
UID:10001368-1767430800-1767436200@tennismemphis.org
SUMMARY:Intermediate Live Ball | Skill Level 3.0-3.5 - SATURDAYS
DESCRIPTION:Intermediate Live Ball with Coach K!\nCalling all intermediate 3.0 – 3.5 players! Come and laugh\, cheer and compete while you learn some new strategies for your game! Warm up with a drill and get right into the theme of the day!  \n\n\nCoach Kristen Eley — 8 Players | 1 Court — \nPlease follow the sign up link or email the Tennis Office\, tennisoffice@tennismemphis.org\, with any questions.
URL:https://tennismemphis.org/event/intermediate-live-ball-skill-level-3-0-3-5-fri-pm-2/2026-01-03/
LOCATION:Leftwich Tennis Center\, 4145 Southern Avenue\, Memphis\, TN\, 38117\, United States
CATEGORIES:Adult Clinics
ATTACH;FMTTYPE=image/png:https://tennismemphis.org/wp-content/uploads/2026/01/Live-Ball-Intermediate-SATURDAYS.png
END:VEVENT
BEGIN:VEVENT
DTSTART;TZID=America/Chicago:20260103T080000
DTEND;TZID=America/Chicago:20260103T090000
DTSTAMP:20260419T110715
CREATED:20260102T141652Z
LAST-MODIFIED:20260110T183942Z
UID:10001774-1767427200-1767430800@tennismemphis.org
SUMMARY:Rise & Grind SATURDAYS | All Skill Levels
DESCRIPTION:Coach Jesse Boyd presents Rise & Grind Saturdays!\n\n\nStart your day strong with our Rise & Grind clinic! Designed for players of all levels (2.5 and up)\, this morning session is all about high reps\, fast pace\, and focused improvement. \nExpect plenty of ball feeding and continuous movement as you work through a variety of stroke drills aimed at building consistency\, improving technique\, and sharpening your overall game. Whether you’re just getting back into tennis or looking to refine your skills\, you’ll leave the court energized and ready to take on the day. \nAll levels welcome. Just bring your racket\, your hustle\, and your coffee can wait. \nPlease follow the sign up link or email the Tennis Office\, tennisoffice@tennismemphis.org\, with any questions.
URL:https://tennismemphis.org/event/rise-grind-saturdays-all-skill-levels/2026-01-03/
LOCATION:Leftwich Tennis Center\, 4145 Southern Avenue\, Memphis\, TN\, 38117\, United States
ATTACH;FMTTYPE=image/png:https://tennismemphis.org/wp-content/uploads/2026/01/Rise-Grind-Saturdays-2026-1.png
END:VEVENT
BEGIN:VEVENT
DTSTART;TZID=America/Chicago:20260102T173000
DTEND;TZID=America/Chicago:20260102T190000
DTSTAMP:20260419T110715
CREATED:20260102T014754Z
LAST-MODIFIED:20260307T003906Z
UID:10001418-1767375000-1767380400@tennismemphis.org
SUMMARY:Intermediate Live Ball | Skill Level 3.0-3.5 - FRI PM
DESCRIPTION:Coach Jeff Suber 3.0-3.5 Intermediate Live Ball\nCalling all intermediate 3.0 – 3.5 players! Come and laugh\, cheer and compete while you learn some new strategies for your game! Warm up with a drill and get right into the theme of the day!  \n\n\nCoach Jeff Suber — 8 Players | 1 Court — \nPlease follow the sign up link or email the Tennis Office\, tennisoffice@tennismemphis.org\, with any questions.
URL:https://tennismemphis.org/event/intermediate-live-ball-skill-level-3-0-3-5-fri-pm/2026-01-02/
LOCATION:Leftwich Tennis Center\, 4145 Southern Avenue\, Memphis\, TN\, 38117\, United States
CATEGORIES:Adult Clinics
ATTACH;FMTTYPE=image/png:https://tennismemphis.org/wp-content/uploads/2026/01/Live-Ball-Intermediate-FRI-PM.png
END:VEVENT
BEGIN:VEVENT
DTSTART;TZID=America/Chicago:20260102T103000
DTEND;TZID=America/Chicago:20260102T120000
DTSTAMP:20260419T110715
CREATED:20260101T155644Z
LAST-MODIFIED:20260307T003923Z
UID:10000105-1767349800-1767355200@tennismemphis.org
SUMMARY:Live Point Play | Skill Level 2.0-2.5 - FRIDAYS
DESCRIPTION:Live Point Play for Advanced Beginners\nJump in and test the waters with our 2.0-2.5 Drill and play class! This is the class for anybody who has just figured out the basics\, but wants to keep learning in a semi-competitive environment! With drills and point play\, this clinic is for YOU! \nCoach Donny Flowers – 8 Players | 1 Court – \nPlease follow the sign up link or email the Tennis Office\, tennisoffice@tennismemphis.org\, with any questions.
URL:https://tennismemphis.org/event/live-point-play-2-0-2-5/2026-01-02/
LOCATION:Leftwich Tennis Center\, 4145 Southern Avenue\, Memphis\, TN\, 38117\, United States
CATEGORIES:Adult Clinics
ATTACH;FMTTYPE=image/png:https://tennismemphis.org/wp-content/uploads/2026/01/Live-Point-Play-FRIDAYS.png
END:VEVENT
BEGIN:VEVENT
DTSTART;TZID=America/Chicago:20260102T090000
DTEND;TZID=America/Chicago:20260102T103000
DTSTAMP:20260419T110715
CREATED:20260102T014546Z
LAST-MODIFIED:20260307T003931Z
UID:10001215-1767344400-1767349800@tennismemphis.org
SUMMARY:Intermediate Live Ball | Skill Level 3.0-3.5 - FRI AM
DESCRIPTION:Coach Jon Bell presents 3.0-3.5 Intermediate Live Ball!\nCalling all intermediate 3.0 – 3.5 players! Come and laugh\, cheer and compete while you learn some new strategies for your game! Warm up with a drill and get right into the theme of the day!  \n\n\nCoach Jon Bell — 8 Players | 1 Court — \nPlease follow the sign up link or email the Tennis Office\, tennisoffice@tennismemphis.org\, with any questions.
URL:https://tennismemphis.org/event/intermediate-live-ball-skill-level-3-0-3-5-fri-am/2026-01-02/
LOCATION:Leftwich Tennis Center\, 4145 Southern Avenue\, Memphis\, TN\, 38117\, United States
CATEGORIES:Adult Clinics
ATTACH;FMTTYPE=image/png:https://tennismemphis.org/wp-content/uploads/2026/01/Live-Ball-Intermediate-FRI-AM.png
END:VEVENT
BEGIN:VEVENT
DTSTART;TZID=America/Chicago:20251230T100000
DTEND;TZID=America/Chicago:20251230T120000
DTSTAMP:20260419T110715
CREATED:20251226T212811Z
LAST-MODIFIED:20260307T004902Z
UID:10000099-1767088800-1767096000@tennismemphis.org
SUMMARY:Holiday Tennis Camp
DESCRIPTION:December 30\, 2025 \n10 am – 12 pm\, \nHoliday Tennis Camp for yellow\, competition\, and elite groups.
URL:https://tennismemphis.org/event/holiday-tennis-camp-2/
LOCATION:Leftwich Tennis Center\, 4145 Southern Avenue\, Memphis\, TN\, 38117\, United States
CATEGORIES:Holidays/Season of Giving,Special Events
ATTACH;FMTTYPE=image/png:https://tennismemphis.org/wp-content/uploads/2025/12/TENNIS-MEMPHIS-event-image.png
ORGANIZER;CN="Tennis Memphis":MAILTO:Marissa Kovach is leading the program. mkovach@tennismemphis.org
END:VEVENT
BEGIN:VEVENT
DTSTART;TZID=America/Chicago:20251229T100000
DTEND;TZID=America/Chicago:20251229T120000
DTSTAMP:20260419T110715
CREATED:20251226T191303Z
LAST-MODIFIED:20260307T004910Z
UID:10000097-1767002400-1767009600@tennismemphis.org
SUMMARY:Holiday Tennis Camp
DESCRIPTION:December 29\, 2025 \n10 am – 12 pm\, \nHoliday Tennis Camp for yellow\, competition\, and elite groups.
URL:https://tennismemphis.org/event/holiday-tennis-camp/
LOCATION:Leftwich Tennis Center\, 4145 Southern Avenue\, Memphis\, TN\, 38117\, United States
CATEGORIES:Holidays/Season of Giving,Special Events
ATTACH;FMTTYPE=image/png:https://tennismemphis.org/wp-content/uploads/2025/12/TENNIS-MEMPHIS-event-image.png
ORGANIZER;CN="Tennis Memphis":MAILTO:Marissa Kovach is leading the program. mkovach@tennismemphis.org
END:VEVENT
BEGIN:VEVENT
DTSTART;TZID=America/Chicago:20251220T123000
DTEND;TZID=America/Chicago:20251220T170000
DTSTAMP:20260419T110715
CREATED:20251122T035033Z
LAST-MODIFIED:20260307T004916Z
UID:10000094-1766233800-1766250000@tennismemphis.org
SUMMARY:Tennis Memphis Holiday Mixers
DESCRIPTION:Join us on Saturday\, December 20th at Leftwich Tennis Center for holiday cheer\, hors d’oeuvres\, drinks\, prizes AND TENNIS!
URL:https://tennismemphis.org/event/tennis-memphis-holiday-mixers/
LOCATION:Leftwich Tennis Center\, 4145 Southern Avenue\, Memphis\, TN\, 38117\, United States
CATEGORIES:Holidays/Season of Giving,Special Events
ATTACH;FMTTYPE=image/png:https://tennismemphis.org/wp-content/uploads/2025/11/TM-Holiday-Mixers-2025-original-Flier-1.png
END:VEVENT
BEGIN:VEVENT
DTSTART;TZID=America/Chicago:20251219T160000
DTEND;TZID=America/Chicago:20251219T190000
DTSTAMP:20260419T110715
CREATED:20251122T040017Z
LAST-MODIFIED:20260307T004929Z
UID:10000095-1766160000-1766170800@tennismemphis.org
SUMMARY:Junior Development Holiday Party & Play Day
DESCRIPTION:Join us on Friday\, December 19 at Leftwich Tennis Center.  There will be pizza\, cookies\, music AND TENNIS! See Poster for details. \n 
URL:https://tennismemphis.org/event/junior-development-holiday-party-play-day/
LOCATION:Leftwich Tennis Center\, 4145 Southern Avenue\, Memphis\, TN\, 38117\, United States
CATEGORIES:Holidays/Season of Giving,Junior Development,Special Events
ATTACH;FMTTYPE=image/png:https://tennismemphis.org/wp-content/uploads/2025/11/JD-Holiday-Party-Play-Day-2025-Flier.png
ORGANIZER;CN="Tennis Memphis":MAILTO:Marissa Kovach is leading the program. mkovach@tennismemphis.org
END:VEVENT
BEGIN:VEVENT
DTSTART;TZID=America/Chicago:20251213T100000
DTEND;TZID=America/Chicago:20251213T150000
DTSTAMP:20260419T110715
CREATED:20251119T165035Z
LAST-MODIFIED:20260307T004948Z
UID:10000093-1765620000-1765638000@tennismemphis.org
SUMMARY:2nd Annual Sam Griffin Tennis for a Lifetime Mixer - Eldon Roark
DESCRIPTION:Mixed doubles 3.0 and below\, 3.5-4.0 and above.  $40 per team.
URL:https://tennismemphis.org/event/2nd-annual-sam-grffin-tennis-for-a-lifetime-mixer-eldon-roark/
LOCATION:Eldon Roark Tennis Center\, 1500 Finley RD\, Memphis\, TN\, 38116\, United States
CATEGORIES:Special Events
ATTACH;FMTTYPE=image/png:https://tennismemphis.org/wp-content/uploads/2025/11/12.13-Mixer-at-Eldon-Original-scaled.png
ORGANIZER;CN="Tennis Memphis":MAILTO:Marissa Kovach is leading the program. mkovach@tennismemphis.org
END:VEVENT
BEGIN:VEVENT
DTSTART;VALUE=DATE:20251128
DTEND;VALUE=DATE:20251202
DTSTAMP:20260419T110715
CREATED:20250514T211228Z
LAST-MODIFIED:20260307T005004Z
UID:10000067-1764288000-1764633599@tennismemphis.org
SUMMARY:Level 1: Girls 12's National Indoor Championship Tournament
DESCRIPTION:Tennis Memphis will host the Level 1: Girls 12s National Indoor Championship Tournament at the Leftwich Tennis Center November 28th – December 1st\, 2025. \nMore information can be found here
URL:https://tennismemphis.org/event/level-1-girls-12s-national-indoor-championship-tournament/
LOCATION:Leftwich Tennis Center\, 4145 Southern Avenue\, Memphis\, TN\, 38117\, United States
CATEGORIES:Leagues/Tournaments
ATTACH;FMTTYPE=image/jpeg:https://tennismemphis.org/wp-content/uploads/2025/02/tenn.jpg
ORGANIZER;CN="Tennis Memphis":MAILTO:Marissa Kovach is leading the program. mkovach@tennismemphis.org
END:VEVENT
BEGIN:VEVENT
DTSTART;TZID=America/Chicago:20251118T110000
DTEND;TZID=America/Chicago:20251119T120000
DTSTAMP:20260419T110715
CREATED:20251106T163032Z
LAST-MODIFIED:20260307T005025Z
UID:10000092-1763463600-1763553600@tennismemphis.org
SUMMARY:Jon Nestler Strength & Conditioning Workshop
DESCRIPTION:Tennis Memphis will host 2 sessions for Jon Nestler’s Strength and Conditioning Workshop at the Leftwich Tennis Center November 18th – November 19\, 2025. \nOpen the QR Code to see more information and the registration form.
URL:https://tennismemphis.org/event/jon-nestler-strength-conditioning-workshop/
LOCATION:Leftwich Tennis Center\, 4145 Southern Avenue\, Memphis\, TN\, 38117\, United States
CATEGORIES:Adult Clinics
ATTACH;FMTTYPE=image/png:https://tennismemphis.org/wp-content/uploads/2025/11/Jon-Nestler-Workshop_tv-flyer.png
ORGANIZER;CN="Tennis Memphis":MAILTO:Marissa Kovach is leading the program. mkovach@tennismemphis.org
END:VEVENT
BEGIN:VEVENT
DTSTART;TZID=America/Chicago:20251114T080000
DTEND;TZID=America/Chicago:20251116T170000
DTSTAMP:20260419T110715
CREATED:20250213T161213Z
LAST-MODIFIED:20260307T005034Z
UID:10000049-1763107200-1763312400@tennismemphis.org
SUMMARY:USTA Southern 65+ Sectionals
DESCRIPTION:
URL:https://tennismemphis.org/event/usta-southern-65-sectionals/
LOCATION:Leftwich Tennis Center\, 4145 Southern Avenue\, Memphis\, TN\, 38117\, United States
CATEGORIES:Leagues/Tournaments
ATTACH;FMTTYPE=image/jpeg:https://tennismemphis.org/wp-content/uploads/2025/02/tenn.jpg
ORGANIZER;CN="Tennis Memphis":MAILTO:Marissa Kovach is leading the program. mkovach@tennismemphis.org
END:VEVENT
BEGIN:VEVENT
DTSTART;TZID=America/Chicago:20251109T160000
DTEND;TZID=America/Chicago:20251109T190000
DTSTAMP:20260419T110715
CREATED:20250901T002742Z
LAST-MODIFIED:20260307T005043Z
UID:10000087-1762704000-1762714800@tennismemphis.org
SUMMARY:Junior Team Tennis
DESCRIPTION:Registration 
URL:https://tennismemphis.org/event/junior-team-tennis-5/
LOCATION:Leftwich Tennis Center\, 4145 Southern Avenue\, Memphis\, TN\, 38117\, United States
CATEGORIES:Leagues/Tournaments
ATTACH;FMTTYPE=image/png:https://tennismemphis.org/wp-content/uploads/2025/08/2025-Fall-JTT-tv-flyer.png
END:VEVENT
BEGIN:VEVENT
DTSTART;TZID=America/Chicago:20251107T173000
DTEND;TZID=America/Chicago:20251107T203000
DTSTAMP:20260419T110715
CREATED:20250901T002546Z
LAST-MODIFIED:20260307T005050Z
UID:10000086-1762536600-1762547400@tennismemphis.org
SUMMARY:Junior Team Tennis
DESCRIPTION:Registration 
URL:https://tennismemphis.org/event/junior-team-tennis-4/
LOCATION:Leftwich Tennis Center\, 4145 Southern Avenue\, Memphis\, TN\, 38117\, United States
CATEGORIES:Leagues/Tournaments
ATTACH;FMTTYPE=image/png:https://tennismemphis.org/wp-content/uploads/2025/08/2025-Fall-JTT-tv-flyer.png
END:VEVENT
BEGIN:VEVENT
DTSTART;TZID=America/Chicago:20251031T080000
DTEND;TZID=America/Chicago:20251102T170000
DTSTAMP:20260419T110715
CREATED:20250213T160553Z
LAST-MODIFIED:20260307T005059Z
UID:10000047-1761897600-1762102800@tennismemphis.org
SUMMARY:USTA TN Combo Championships
DESCRIPTION:More Info HERE
URL:https://tennismemphis.org/event/usta-tn-combo-championships/
LOCATION:Leftwich Tennis Center\, 4145 Southern Avenue\, Memphis\, TN\, 38117\, United States
CATEGORIES:Leagues/Tournaments
ATTACH;FMTTYPE=image/png:https://tennismemphis.org/wp-content/uploads/2024/01/USTA-Southern_TN_USTABlue-RGB-stacked.png
ORGANIZER;CN="Tennis Memphis":MAILTO:Marissa Kovach is leading the program. mkovach@tennismemphis.org
END:VEVENT
BEGIN:VEVENT
DTSTART;VALUE=DATE:20251025
DTEND;VALUE=DATE:20251026
DTSTAMP:20260419T110715
CREATED:20250901T003743Z
LAST-MODIFIED:20260307T005108Z
UID:10000091-1761350400-1761436799@tennismemphis.org
SUMMARY:Smash Cancer Tournament
DESCRIPTION:More information here  \n  \n2025 Smash Cancer Tennis Tournament Flyer
URL:https://tennismemphis.org/event/smash-cancer-tournament/
LOCATION:Leftwich Tennis Center\, 4145 Southern Avenue\, Memphis\, TN\, 38117\, United States
CATEGORIES:Leagues/Tournaments
END:VEVENT
BEGIN:VEVENT
DTSTART;TZID=America/Chicago:20251024T173000
DTEND;TZID=America/Chicago:20251024T203000
DTSTAMP:20260419T110715
CREATED:20250901T002431Z
LAST-MODIFIED:20260307T005118Z
UID:10000085-1761327000-1761337800@tennismemphis.org
SUMMARY:Junior Team Tennis
DESCRIPTION:Registration 
URL:https://tennismemphis.org/event/junior-team-tennis-3/
LOCATION:Leftwich Tennis Center\, 4145 Southern Avenue\, Memphis\, TN\, 38117\, United States
CATEGORIES:Leagues/Tournaments
ATTACH;FMTTYPE=image/png:https://tennismemphis.org/wp-content/uploads/2025/08/2025-Fall-JTT-tv-flyer.png
END:VEVENT
BEGIN:VEVENT
DTSTART;VALUE=DATE:20251024
DTEND;VALUE=DATE:20251025
DTSTAMP:20260419T110715
CREATED:20250901T003612Z
LAST-MODIFIED:20260307T005128Z
UID:10000090-1761264000-1761350399@tennismemphis.org
SUMMARY:Courts for a Cure
DESCRIPTION:More information here
URL:https://tennismemphis.org/event/courts-for-a-cure/
LOCATION:Leftwich Tennis Center\, 4145 Southern Avenue\, Memphis\, TN\, 38117\, United States
CATEGORIES:Special Events
ATTACH;FMTTYPE=image/jpeg:https://tennismemphis.org/wp-content/uploads/2025/08/courstforcure.jpg
END:VEVENT
BEGIN:VEVENT
DTSTART;TZID=America/Chicago:20251017T173000
DTEND;TZID=America/Chicago:20251017T203000
DTSTAMP:20260419T110715
CREATED:20250901T002347Z
LAST-MODIFIED:20260307T005136Z
UID:10000084-1760722200-1760733000@tennismemphis.org
SUMMARY:Junior Team Tennis
DESCRIPTION:Registration 
URL:https://tennismemphis.org/event/junior-team-tennis-2/
LOCATION:Leftwich Tennis Center\, 4145 Southern Avenue\, Memphis\, TN\, 38117\, United States
CATEGORIES:Leagues/Tournaments
ATTACH;FMTTYPE=image/png:https://tennismemphis.org/wp-content/uploads/2025/08/2025-Fall-JTT-tv-flyer.png
END:VEVENT
BEGIN:VEVENT
DTSTART;TZID=America/Chicago:20251010T173000
DTEND;TZID=America/Chicago:20251010T203000
DTSTAMP:20260419T110715
CREATED:20250901T002223Z
LAST-MODIFIED:20260307T005143Z
UID:10000083-1760117400-1760128200@tennismemphis.org
SUMMARY:Junior Team Tennis
DESCRIPTION:Registration 
URL:https://tennismemphis.org/event/junior-team-tennis/
LOCATION:Leftwich Tennis Center\, 4145 Southern Avenue\, Memphis\, TN\, 38117\, United States
CATEGORIES:Leagues/Tournaments
ATTACH;FMTTYPE=image/png:https://tennismemphis.org/wp-content/uploads/2025/08/2025-Fall-JTT-tv-flyer.png
END:VEVENT
BEGIN:VEVENT
DTSTART;VALUE=DATE:20251010
DTEND;VALUE=DATE:20251013
DTSTAMP:20260419T110715
CREATED:20250901T003242Z
LAST-MODIFIED:20260307T005151Z
UID:10000089-1760054400-1760313599@tennismemphis.org
SUMMARY:Stennis Tennis Classic Tournament at Eldon Roark
DESCRIPTION:
URL:https://tennismemphis.org/event/stennis-tennis-classic-tournament-at-eldon-roark/
LOCATION:Eldon Roark Tennis Center\, 1500 Finley RD\, Memphis\, TN\, 38116\, United States
CATEGORIES:Leagues/Tournaments
END:VEVENT
BEGIN:VEVENT
DTSTART;VALUE=DATE:20250927
DTEND;VALUE=DATE:20250928
DTSTAMP:20260419T110715
CREATED:20250901T003132Z
LAST-MODIFIED:20260307T005159Z
UID:10000088-1758931200-1759017599@tennismemphis.org
SUMMARY:McKinney-Dalstrom FREE 10s Tournament @ Eldon Roark in Memphis
DESCRIPTION:USTA Junior Circuit: McKinney-Dalstrom FREE 10s Tournament @ Eldon Roark in Memphis\nRegistration
URL:https://tennismemphis.org/event/mckinney-dalstrom-free-10s-tournament-eldon-roark-in-memphis/
LOCATION:Eldon Roark Tennis Center\, 1500 Finley RD\, Memphis\, TN\, 38116\, United States
CATEGORIES:Leagues/Tournaments
ORGANIZER;CN="Tennis Memphis":MAILTO:Marissa Kovach is leading the program. mkovach@tennismemphis.org
END:VEVENT
BEGIN:VEVENT
DTSTART;TZID=America/Chicago:20250926T080000
DTEND;TZID=America/Chicago:20250929T170000
DTSTAMP:20260419T110715
CREATED:20250213T160118Z
LAST-MODIFIED:20260307T005206Z
UID:10000046-1758873600-1759165200@tennismemphis.org
SUMMARY:USTA Southern Championship - Mixed Doubles
DESCRIPTION:More Information Here \nTennis Memphis is excited to host the 2025 Mixed Doubles Sectionals Championship at Leftwich.
URL:https://tennismemphis.org/event/usta-southern-championship-mixed-doubles/
LOCATION:Leftwich Tennis Center\, 4145 Southern Avenue\, Memphis\, TN\, 38117\, United States
CATEGORIES:Leagues/Tournaments
ATTACH;FMTTYPE=image/png:https://tennismemphis.org/wp-content/uploads/2025/02/Screenshot-2025-02-19-140310.png
ORGANIZER;CN="Tennis Memphis":MAILTO:Marissa Kovach is leading the program. mkovach@tennismemphis.org
END:VEVENT
BEGIN:VEVENT
DTSTART;VALUE=DATE:20250925
DTEND;VALUE=DATE:20250926
DTSTAMP:20260419T110715
CREATED:20250424T222209Z
LAST-MODIFIED:20260307T005251Z
UID:10000066-1758758400-1758844799@tennismemphis.org
SUMMARY:Memphis Senior Olympics at Eldon Roark
DESCRIPTION:The Memphis Senior Tennis Olympics will be held at Eldon Roark. \nCheck out the Tennessee Senior Olympics website for more information!
URL:https://tennismemphis.org/event/memphis-senior-olympics-at-eldon-roark/
LOCATION:Eldon Roark Tennis Center\, 1500 Finley RD\, Memphis\, TN\, 38116\, United States
CATEGORIES:Special Events
ATTACH;FMTTYPE=image/jpeg:https://tennismemphis.org/wp-content/uploads/2025/04/448954533_7640237552761087_1916808984834553246_n.jpg
END:VEVENT
BEGIN:VEVENT
DTSTART;TZID=America/Chicago:20250912T180000
DTEND;TZID=America/Chicago:20250912T210000
DTSTAMP:20260419T110715
CREATED:20250213T155527Z
LAST-MODIFIED:20260307T005238Z
UID:10000045-1757700000-1757710800@tennismemphis.org
SUMMARY:UT Dermatology Fundraiser
DESCRIPTION:More Details to Follow \nPlay will be at the Leftwich courts on September 12th \n 
URL:https://tennismemphis.org/event/ut-dermatology-fundraiser/
LOCATION:Leftwich Tennis Center\, 4145 Southern Avenue\, Memphis\, TN\, 38117\, United States
CATEGORIES:Special Events
ATTACH;FMTTYPE=image/png:https://tennismemphis.org/wp-content/uploads/2025/02/TDS-Tournament-Flyer-.png
ORGANIZER;CN="Tennis Memphis":MAILTO:Marissa Kovach is leading the program. mkovach@tennismemphis.org
END:VEVENT
END:VCALENDAR