BEGIN:VCALENDAR
VERSION:2.0
PRODID:-//Tennis Memphis - ECPv6.15.20//NONSGML v1.0//EN
CALSCALE:GREGORIAN
METHOD:PUBLISH
X-WR-CALNAME:Tennis Memphis
X-ORIGINAL-URL:https://tennismemphis.org
X-WR-CALDESC:Events for Tennis Memphis
REFRESH-INTERVAL;VALUE=DURATION:PT1H
X-Robots-Tag:noindex
X-PUBLISHED-TTL:PT1H
BEGIN:VTIMEZONE
TZID:America/Chicago
BEGIN:DAYLIGHT
TZOFFSETFROM:-0600
TZOFFSETTO:-0500
TZNAME:CDT
DTSTART:20250309T080000
END:DAYLIGHT
BEGIN:STANDARD
TZOFFSETFROM:-0500
TZOFFSETTO:-0600
TZNAME:CST
DTSTART:20251102T070000
END:STANDARD
BEGIN:DAYLIGHT
TZOFFSETFROM:-0600
TZOFFSETTO:-0500
TZNAME:CDT
DTSTART:20260308T080000
END:DAYLIGHT
BEGIN:STANDARD
TZOFFSETFROM:-0500
TZOFFSETTO:-0600
TZNAME:CST
DTSTART:20261101T070000
END:STANDARD
BEGIN:DAYLIGHT
TZOFFSETFROM:-0600
TZOFFSETTO:-0500
TZNAME:CDT
DTSTART:20270314T080000
END:DAYLIGHT
BEGIN:STANDARD
TZOFFSETFROM:-0500
TZOFFSETTO:-0600
TZNAME:CST
DTSTART:20271107T070000
END:STANDARD
BEGIN:DAYLIGHT
TZOFFSETFROM:-0600
TZOFFSETTO:-0500
TZNAME:CDT
DTSTART:20280312T080000
END:DAYLIGHT
BEGIN:STANDARD
TZOFFSETFROM:-0500
TZOFFSETTO:-0600
TZNAME:CST
DTSTART:20281105T070000
END:STANDARD
END:VTIMEZONE
BEGIN:VEVENT
DTSTART;TZID=America/Chicago:20261230T173000
DTEND;TZID=America/Chicago:20261230T190000
DTSTAMP:20260425T092206
CREATED:20260110T214443Z
LAST-MODIFIED:20260307T003709Z
UID:10002922-1798651800-1798657200@tennismemphis.org
SUMMARY:Advanced Beginner Live Ball | Skill Level 2.0-2.5 - WEDNESDAYS
DESCRIPTION:Coach Jesse Boyd presents 2.0-2.5 Advanced Beginner Live Ball\nJump in and test the waters with our 2.0-2.5 Live Ball class! This is the class for anybody who has just figured out the basics\, but wants to keep learning in a semi-competitive environment! \n— 8 Players | 1 Court — \nPlease follow the sign up link or email the Tennis Office\, tennisoffice@tennismemphis.org\, with any questions.
URL:https://tennismemphis.org/event/advanced-beginner-live-ball-wednesdays/2026-12-30/
LOCATION:Leftwich Tennis Center\, 4145 Southern Avenue\, Memphis\, TN\, 38117\, United States
CATEGORIES:Adult Clinics
ATTACH;FMTTYPE=image/png:https://tennismemphis.org/wp-content/uploads/2026/01/ADVANCED-BEGINNER-WEDNESDAYS-1.png
END:VEVENT
BEGIN:VEVENT
DTSTART;TZID=America/Chicago:20261230T190000
DTEND;TZID=America/Chicago:20261230T203000
DTSTAMP:20260425T092206
CREATED:20260105T022208Z
LAST-MODIFIED:20260307T003656Z
UID:10002194-1798657200-1798662600@tennismemphis.org
SUMMARY:Night-Time Showdown | Skill Level 3.0+ - WEDNESDAYS
DESCRIPTION:Coach Jesse Boyd presents Night-Time Showdown 3.0+!\n\n\nAll 3.0+ USTA rating are welcome to Monday and Wednesday Night Showdowns. Let the games begin! \n— 16 Players | 2 Courts — \nPlease follow the sign up link or email the Tennis Office\, tennisoffice@tennismemphis.org\, with any questions.
URL:https://tennismemphis.org/event/night-time-showdown-3-0-wednesdays/2026-12-30/
LOCATION:Leftwich Tennis Center\, 4145 Southern Avenue\, Memphis\, TN\, 38117\, United States
CATEGORIES:Adult Clinics
ATTACH;FMTTYPE=image/png:https://tennismemphis.org/wp-content/uploads/2026/01/Green-Neon-Green-Modern-Tennis-Tournament-Facebook-Post-Real-Estate-Flyer-1.png
END:VEVENT
BEGIN:VEVENT
DTSTART;TZID=America/Chicago:20261231T090000
DTEND;TZID=America/Chicago:20261231T103000
DTSTAMP:20260425T092206
CREATED:20260102T013430Z
LAST-MODIFIED:20260307T003650Z
UID:10001162-1798707600-1798713000@tennismemphis.org
SUMMARY:Intermediate Live Ball | Skill Level 3.0-3.5 - THURSDAYS
DESCRIPTION:Coach Donny Flowers presents 3.0-3.5 Intermediate Live Ball!\nCalling all intermediate 3.0 – 3.5 players! Come and laugh\, cheer and compete while you learn some new strategies for your game! Warm up with a drill and get right into the theme of the day!  \n\n\nCoach Donny Flowers — 8 Players | 1 Court — \nPlease follow the sign up link or email the Tennis Office\, tennisoffice@tennismemphis.org\, with any questions.
URL:https://tennismemphis.org/event/intermediate-live-ball-skill-level-3-0-3-5-thursdays/2026-12-31/
LOCATION:Leftwich Tennis Center\, 4145 Southern Avenue\, Memphis\, TN\, 38117\, United States
CATEGORIES:Adult Clinics
ATTACH;FMTTYPE=image/png:https://tennismemphis.org/wp-content/uploads/2026/01/Live-Ball-Intermediate-THURSDAYS.png
END:VEVENT
BEGIN:VEVENT
DTSTART;TZID=America/Chicago:20261231T190000
DTEND;TZID=America/Chicago:20261231T203000
DTSTAMP:20260425T092207
CREATED:20260102T155748Z
LAST-MODIFIED:20260307T003622Z
UID:10002507-1798743600-1798749000@tennismemphis.org
SUMMARY:Beginner Showdown | Skill Level 101/201 - THURSDAYS
DESCRIPTION:Coach Jeff Suber presents Beginner Showdown!\n\n\nAll beginners 2.5 USTA rating and below are welcome! Using our popular PTF 101 and 201 curriculum\, we put together a bunch of games that any beginner tennis player will love! Come and bring a friend to have some fun and fitness for your Thursdays this summer! \n— 8 Players | 1 Court — \nPlease follow the sign up link or email the Tennis Office\, tennisoffice@tennismemphis.org\, with any questions.
URL:https://tennismemphis.org/event/beginner-showdown-skill-level-101/2026-12-31/
LOCATION:Leftwich Tennis Center\, 4145 Southern Avenue\, Memphis\, TN\, 38117\, United States
CATEGORIES:Adult Clinics
ATTACH;FMTTYPE=image/png:https://tennismemphis.org/wp-content/uploads/2026/01/Beginner-Showdown-THURSDAYS-1.png
END:VEVENT
BEGIN:VEVENT
DTSTART;TZID=America/Chicago:20270105T180000
DTEND;TZID=America/Chicago:20270105T193000
DTSTAMP:20260425T092207
CREATED:20260110T205908Z
LAST-MODIFIED:20260307T003743Z
UID:10002869-1799172000-1799177400@tennismemphis.org
SUMMARY:Ladies Only Intermediate Live Ball | Skill Level 3.0-3.5 - TUESDAYS
DESCRIPTION:Ladies Only – Intermediate Live Ball with Coach Kristen Eley\n3.0-3.5 Ladies Only opportunity to join us for drills and point play. \n\n\n— 8 Players | 1 Courts — \nPlease follow the sign up link or email the Tennis Office\, tennisoffice@tennismemphis.org\, with any questions.
URL:https://tennismemphis.org/event/lo/2027-01-05/
LOCATION:Eldon Roark Tennis Center\, 1500 Finley RD\, Memphis\, TN\, 38116\, United States
CATEGORIES:Adult Clinics
ATTACH;FMTTYPE=image/png:https://tennismemphis.org/wp-content/uploads/2026/01/Ladies-Only-Coach-Kristen-Eley.png
END:VEVENT
END:VCALENDAR