BEGIN:VCALENDAR
VERSION:2.0
PRODID:-//Tennis Memphis - ECPv6.15.20//NONSGML v1.0//EN
CALSCALE:GREGORIAN
METHOD:PUBLISH
X-ORIGINAL-URL:https://tennismemphis.org
X-WR-CALDESC:Events for Tennis Memphis
REFRESH-INTERVAL;VALUE=DURATION:PT1H
X-Robots-Tag:noindex
X-PUBLISHED-TTL:PT1H
BEGIN:VTIMEZONE
TZID:America/Chicago
BEGIN:DAYLIGHT
TZOFFSETFROM:-0600
TZOFFSETTO:-0500
TZNAME:CDT
DTSTART:20240310T080000
END:DAYLIGHT
BEGIN:STANDARD
TZOFFSETFROM:-0500
TZOFFSETTO:-0600
TZNAME:CST
DTSTART:20241103T070000
END:STANDARD
BEGIN:DAYLIGHT
TZOFFSETFROM:-0600
TZOFFSETTO:-0500
TZNAME:CDT
DTSTART:20250309T080000
END:DAYLIGHT
BEGIN:STANDARD
TZOFFSETFROM:-0500
TZOFFSETTO:-0600
TZNAME:CST
DTSTART:20251102T070000
END:STANDARD
BEGIN:DAYLIGHT
TZOFFSETFROM:-0600
TZOFFSETTO:-0500
TZNAME:CDT
DTSTART:20260308T080000
END:DAYLIGHT
BEGIN:STANDARD
TZOFFSETFROM:-0500
TZOFFSETTO:-0600
TZNAME:CST
DTSTART:20261101T070000
END:STANDARD
BEGIN:DAYLIGHT
TZOFFSETFROM:-0600
TZOFFSETTO:-0500
TZNAME:CDT
DTSTART:20270314T080000
END:DAYLIGHT
BEGIN:STANDARD
TZOFFSETFROM:-0500
TZOFFSETTO:-0600
TZNAME:CST
DTSTART:20271107T070000
END:STANDARD
END:VTIMEZONE
BEGIN:VEVENT
DTSTART;VALUE=DATE:20260104
DTEND;VALUE=DATE:20260216
DTSTAMP:20260422T090312
CREATED:20251205T023833Z
LAST-MODIFIED:20260307T004800Z
UID:10000096-1767484800-1771199999@tennismemphis.org
SUMMARY:2026 Winter Snowflake League
DESCRIPTION:2026 Winter Snowflake League\nIndoor Winter League Saturdays\, January 17 – February 14\, 2026.  Levels Up to 7.0\, 8.0 Plus. \nMatches will be on Saturday afternoons at Leftwich.  Exact times will be posted once the schedule is made.  February 7 matches will be at Eldon Roark and times will vary.  Each week’s match will consist of 1 Ladies Doubles Court\, 1 Mens Doubles Court\, 1 Mixed Doubles Court.  The $75 fee per person includes all of your indoor court fees\, balls and league winner prizes. \nEach team will need:  Team Name\, Team Captain\, Minimum of 6 players (8 recommended\, No Max). Please register by January 9\, 2026.
URL:https://tennismemphis.org/event/https-tennismemphis-org-wp-content-uploads-2025-12-snowflake-league-2026-flyer-pdftennis-memphis-holiday-mixers-2/
LOCATION:Leftwich Tennis Center\, 4145 Southern Avenue\, Memphis\, TN\, 38117\, United States
CATEGORIES:Holidays/Season of Giving,Leagues/Tournaments
ATTACH;FMTTYPE=image/png:https://tennismemphis.org/wp-content/uploads/2026/01/2026-Winter-Snowflake-League.png
END:VEVENT
BEGIN:VEVENT
DTSTART;TZID=America/Chicago:20251220T123000
DTEND;TZID=America/Chicago:20251220T170000
DTSTAMP:20260422T090312
CREATED:20251122T035033Z
LAST-MODIFIED:20260307T004916Z
UID:10000094-1766233800-1766250000@tennismemphis.org
SUMMARY:Tennis Memphis Holiday Mixers
DESCRIPTION:Join us on Saturday\, December 20th at Leftwich Tennis Center for holiday cheer\, hors d’oeuvres\, drinks\, prizes AND TENNIS!
URL:https://tennismemphis.org/event/tennis-memphis-holiday-mixers/
LOCATION:Leftwich Tennis Center\, 4145 Southern Avenue\, Memphis\, TN\, 38117\, United States
CATEGORIES:Holidays/Season of Giving,Special Events
ATTACH;FMTTYPE=image/png:https://tennismemphis.org/wp-content/uploads/2025/11/TM-Holiday-Mixers-2025-original-Flier-1.png
END:VEVENT
BEGIN:VEVENT
DTSTART;TZID=America/Chicago:20250421T080000
DTEND;TZID=America/Chicago:20250421T170000
DTSTAMP:20260422T090312
CREATED:20250212T201511Z
LAST-MODIFIED:20260307T005715Z
UID:10000039-1745222400-1745254800@tennismemphis.org
SUMMARY:MSCIAA High School Tournament
DESCRIPTION:CITY OF MEMPHIS AVAILABLE TENNIS COURTS  \nAll matches will be played at the designated tennis centers at 4:00 P.M. unless otherwise indicated\, and must be completed by dusk. \nCoaches should call the Tennis Coordinator to reserve courts at the center you wish to use for practices\, matches and tournaments. \n  \nMore Details Here
URL:https://tennismemphis.org/event/msciaa-high-school-tournament/
LOCATION:Leftwich Tennis Center\, 4145 Southern Avenue\, Memphis\, TN\, 38117\, United States
CATEGORIES:Leagues/Tournaments
ATTACH;FMTTYPE=image/png:https://tennismemphis.org/wp-content/uploads/2025/02/tennis-2.png
END:VEVENT
END:VCALENDAR