BEGIN:VCALENDAR
VERSION:2.0
PRODID:-//Tennis Memphis - ECPv6.15.20//NONSGML v1.0//EN
CALSCALE:GREGORIAN
METHOD:PUBLISH
X-WR-CALNAME:Tennis Memphis
X-ORIGINAL-URL:https://tennismemphis.org
X-WR-CALDESC:Events for Tennis Memphis
REFRESH-INTERVAL;VALUE=DURATION:PT1H
X-Robots-Tag:noindex
X-PUBLISHED-TTL:PT1H
BEGIN:VTIMEZONE
TZID:America/Chicago
BEGIN:DAYLIGHT
TZOFFSETFROM:-0600
TZOFFSETTO:-0500
TZNAME:CDT
DTSTART:20240310T080000
END:DAYLIGHT
BEGIN:STANDARD
TZOFFSETFROM:-0500
TZOFFSETTO:-0600
TZNAME:CST
DTSTART:20241103T070000
END:STANDARD
BEGIN:DAYLIGHT
TZOFFSETFROM:-0600
TZOFFSETTO:-0500
TZNAME:CDT
DTSTART:20250309T080000
END:DAYLIGHT
BEGIN:STANDARD
TZOFFSETFROM:-0500
TZOFFSETTO:-0600
TZNAME:CST
DTSTART:20251102T070000
END:STANDARD
BEGIN:DAYLIGHT
TZOFFSETFROM:-0600
TZOFFSETTO:-0500
TZNAME:CDT
DTSTART:20260308T080000
END:DAYLIGHT
BEGIN:STANDARD
TZOFFSETFROM:-0500
TZOFFSETTO:-0600
TZNAME:CST
DTSTART:20261101T070000
END:STANDARD
END:VTIMEZONE
BEGIN:VEVENT
DTSTART;TZID=America/Chicago:20250321T170000
DTEND;TZID=America/Chicago:20250321T190000
DTSTAMP:20260422T104843
CREATED:20250121T200857Z
LAST-MODIFIED:20260307T005728Z
UID:10000036-1742576400-1742583600@tennismemphis.org
SUMMARY:University Memphis Men's Tennis  vs  Rice
DESCRIPTION:University of Memphis Men’s Tennis verses Rice
URL:https://tennismemphis.org/event/university-memphis-mens-tennis-vs-rice-2/
LOCATION:Leftwich Tennis Center\, 4145 Southern Avenue\, Memphis\, TN\, 38117\, United States
CATEGORIES:Leagues/Tournaments
ATTACH;FMTTYPE=image/png:https://tennismemphis.org/wp-content/uploads/2025/01/Screenshot-2025-01-20-at-2.39.02 PM.png
END:VEVENT
BEGIN:VEVENT
DTSTART;TZID=America/Chicago:20250321T170000
DTEND;TZID=America/Chicago:20250321T190000
DTSTAMP:20260422T104843
CREATED:20250121T200454Z
LAST-MODIFIED:20260307T005735Z
UID:10000035-1742576400-1742583600@tennismemphis.org
SUMMARY:University Memphis Womens Tennis  vs  Rice
DESCRIPTION:University of Memphis Men’s Tennis verses Rice
URL:https://tennismemphis.org/event/university-memphis-mens-tennis-vs-rice/
LOCATION:Leftwich Tennis Center\, 4145 Southern Avenue\, Memphis\, TN\, 38117\, United States
CATEGORIES:Leagues/Tournaments
ATTACH;FMTTYPE=image/png:https://tennismemphis.org/wp-content/uploads/2025/01/Screenshot-2025-01-20-at-2.39.02 PM.png
END:VEVENT
BEGIN:VEVENT
DTSTART;TZID=America/Chicago:20250315T130000
DTEND;TZID=America/Chicago:20250315T180000
DTSTAMP:20260422T104843
CREATED:20250121T200149Z
LAST-MODIFIED:20260307T005742Z
UID:10000034-1742043600-1742061600@tennismemphis.org
SUMMARY:University Memphis Women's Tennis vs Clemson
DESCRIPTION:University of Memphis Women’s Team verses Clemson
URL:https://tennismemphis.org/event/university-memphis-womens-tennis-vs-clemson/
LOCATION:Leftwich Tennis Center\, 4145 Southern Avenue\, Memphis\, TN\, 38117\, United States
CATEGORIES:Leagues/Tournaments
ATTACH;FMTTYPE=image/png:https://tennismemphis.org/wp-content/uploads/2025/01/Screenshot-2025-01-20-at-2.39.02 PM.png
END:VEVENT
BEGIN:VEVENT
DTSTART;TZID=America/Chicago:20250216T140000
DTEND;TZID=America/Chicago:20250216T190000
DTSTAMP:20260422T104843
CREATED:20250121T194816Z
LAST-MODIFIED:20260307T005834Z
UID:10000030-1739714400-1739732400@tennismemphis.org
SUMMARY:University Memphis Men's Tennis  vs  Oklahoma State
DESCRIPTION:University of Memphis Men’s Tennis verses Oklahoma State
URL:https://tennismemphis.org/event/university-memphis-mens-tennis-copy/
LOCATION:Leftwich Tennis Center\, 4145 Southern Avenue\, Memphis\, TN\, 38117\, United States
CATEGORIES:Leagues/Tournaments
ATTACH;FMTTYPE=image/png:https://tennismemphis.org/wp-content/uploads/2025/01/Screenshot-2025-01-20-at-2.39.02 PM.png
END:VEVENT
BEGIN:VEVENT
DTSTART;TZID=America/Chicago:20250214T170000
DTEND;TZID=America/Chicago:20250214T220000
DTSTAMP:20260422T104843
CREATED:20250121T194005Z
LAST-MODIFIED:20260307T005920Z
UID:10000028-1739552400-1739570400@tennismemphis.org
SUMMARY:University Memphis Women's Tennis verses Iowa
DESCRIPTION:University of Memphis Women’s Team verses Iowa
URL:https://tennismemphis.org/event/university-memphis-womens-tennis/
LOCATION:Leftwich Tennis Center\, 4145 Southern Avenue\, Memphis\, TN\, 38117\, United States
CATEGORIES:Leagues/Tournaments
ATTACH;FMTTYPE=image/png:https://tennismemphis.org/wp-content/uploads/2025/01/Screenshot-2025-01-20-at-2.39.02 PM.png
END:VEVENT
BEGIN:VEVENT
DTSTART;TZID=America/Chicago:20250207T170000
DTEND;TZID=America/Chicago:20250207T220000
DTSTAMP:20260422T104843
CREATED:20250120T213645Z
LAST-MODIFIED:20250120T213747Z
UID:10000025-1738947600-1738965600@tennismemphis.org
SUMMARY:University Memphis Men's Tennis
DESCRIPTION:University of Memphis verses Arkansas
URL:https://tennismemphis.org/event/university-memphis-mens-tennis/
LOCATION:Leftwich Tennis Center\, 4145 Southern Avenue\, Memphis\, TN\, 38117\, United States
ATTACH;FMTTYPE=image/png:https://tennismemphis.org/wp-content/uploads/2025/01/Screenshot-2025-01-20-at-2.39.02 PM.png
END:VEVENT
END:VCALENDAR