BEGIN:VCALENDAR
VERSION:2.0
PRODID:-//Tennis Memphis - ECPv6.15.20//NONSGML v1.0//EN
CALSCALE:GREGORIAN
METHOD:PUBLISH
X-ORIGINAL-URL:https://tennismemphis.org
X-WR-CALDESC:Events for Tennis Memphis
REFRESH-INTERVAL;VALUE=DURATION:PT1H
X-Robots-Tag:noindex
X-PUBLISHED-TTL:PT1H
BEGIN:VTIMEZONE
TZID:America/Chicago
BEGIN:DAYLIGHT
TZOFFSETFROM:-0600
TZOFFSETTO:-0500
TZNAME:CDT
DTSTART:20250309T080000
END:DAYLIGHT
BEGIN:STANDARD
TZOFFSETFROM:-0500
TZOFFSETTO:-0600
TZNAME:CST
DTSTART:20251102T070000
END:STANDARD
BEGIN:DAYLIGHT
TZOFFSETFROM:-0600
TZOFFSETTO:-0500
TZNAME:CDT
DTSTART:20260308T080000
END:DAYLIGHT
BEGIN:STANDARD
TZOFFSETFROM:-0500
TZOFFSETTO:-0600
TZNAME:CST
DTSTART:20261101T070000
END:STANDARD
BEGIN:DAYLIGHT
TZOFFSETFROM:-0600
TZOFFSETTO:-0500
TZNAME:CDT
DTSTART:20270314T080000
END:DAYLIGHT
BEGIN:STANDARD
TZOFFSETFROM:-0500
TZOFFSETTO:-0600
TZNAME:CST
DTSTART:20271107T070000
END:STANDARD
END:VTIMEZONE
BEGIN:VEVENT
DTSTART;TZID=America/Chicago:20260526T150000
DTEND;TZID=America/Chicago:20260526T170000
DTSTAMP:20260422T222021
CREATED:20260422T224237Z
LAST-MODIFIED:20260422T225806Z
UID:10003427-1779807600-1779814800@tennismemphis.org
SUMMARY:Frayser Junior Play Day - National Tennis Month | Tennis Memphis FREE Play Days
DESCRIPTION:Tennis Memphis FREE Play Days | National Tennis Month\nTennis Memphis is celebrating National Tennis Month by hosting FIVE FREE PLAY DAYS! \nSAT | MAY 2 | 11-1PM | ELDON ROARK FAMILY PLAY DAY \nSAT | MAY 9 | 10 – 12PM | WOLBRECHT FAMILY PLAY DAY \nMON | MAY 25 | 10 – 12PM | RALEIGH FAMILY PLAY DAY \nFRI | MAY 29 | 4 – 6PM | LEFTWICH JUNIOR PLAY \nTUE | MAY 26 | 3-5PM | FRAYSER JUNIOR PLAY DAY \nEnjoy FUN TENNIS\, SNACKS AND GIVEAWAYS! \nLet’s go!!!
URL:https://tennismemphis.org/event/frayser-junior-play-day-national-tennis-month-tennis-memphis-free-play-days/
LOCATION:Frayser Tennis Center\, 2907 N. Watkins Street\, Memphis\, TN\, 38127\, United States
CATEGORIES:Community Play Days
ATTACH;FMTTYPE=image/png:https://tennismemphis.org/wp-content/uploads/2026/04/play-days-2.png
END:VEVENT
END:VCALENDAR