BEGIN:VCALENDAR
VERSION:2.0
PRODID:-//Tennis Memphis - ECPv6.15.20//NONSGML v1.0//EN
CALSCALE:GREGORIAN
METHOD:PUBLISH
X-ORIGINAL-URL:https://tennismemphis.org
X-WR-CALDESC:Events for Tennis Memphis
REFRESH-INTERVAL;VALUE=DURATION:PT1H
X-Robots-Tag:noindex
X-PUBLISHED-TTL:PT1H
BEGIN:VTIMEZONE
TZID:America/Chicago
BEGIN:DAYLIGHT
TZOFFSETFROM:-0600
TZOFFSETTO:-0500
TZNAME:CDT
DTSTART:20250309T080000
END:DAYLIGHT
BEGIN:STANDARD
TZOFFSETFROM:-0500
TZOFFSETTO:-0600
TZNAME:CST
DTSTART:20251102T070000
END:STANDARD
BEGIN:DAYLIGHT
TZOFFSETFROM:-0600
TZOFFSETTO:-0500
TZNAME:CDT
DTSTART:20260308T080000
END:DAYLIGHT
BEGIN:STANDARD
TZOFFSETFROM:-0500
TZOFFSETTO:-0600
TZNAME:CST
DTSTART:20261101T070000
END:STANDARD
BEGIN:DAYLIGHT
TZOFFSETFROM:-0600
TZOFFSETTO:-0500
TZNAME:CDT
DTSTART:20270314T080000
END:DAYLIGHT
BEGIN:STANDARD
TZOFFSETFROM:-0500
TZOFFSETTO:-0600
TZNAME:CST
DTSTART:20271107T070000
END:STANDARD
END:VTIMEZONE
BEGIN:VEVENT
DTSTART;TZID=America/Chicago:20260425T090000
DTEND;TZID=America/Chicago:20260425T110000
DTSTAMP:20260422T190302
CREATED:20260422T181535Z
LAST-MODIFIED:20260422T194811Z
UID:10003420-1777107600-1777114800@tennismemphis.org
SUMMARY:Tennis Memphis x Google | West Memphis Community Play Day
DESCRIPTION:Tennis Memphis x Google | West Memphis Community Play Days\nTennis Memphis has teamed up with our friends from Google and the USTA Foundation to bring four Community Play Days to West Memphis! \nSATURDAYS | 9AM – 11AM – APRIL 25 | MAY 2 | MAY 9 | MAY 16 \nEnjoy Red Ball tennis\, expert coaching\, music\, games and prizes! Only $5 and includes lunch! \nLet’s go!!!
URL:https://tennismemphis.org/event/tennis-memphis-x-google-west-memphis-community-play-day/
LOCATION:Tilden Rodgers Park\, 825 College Boulevard\, West Memphis\, AR\, 72301\, United States
CATEGORIES:Community Play Days
ATTACH;FMTTYPE=image/png:https://tennismemphis.org/wp-content/uploads/2026/04/West-Memphis-Community-Play-Day-1-4.25.2026.png
END:VEVENT
BEGIN:VEVENT
DTSTART;TZID=America/Chicago:20260502T090000
DTEND;TZID=America/Chicago:20260502T110000
DTSTAMP:20260422T190302
CREATED:20260422T190236Z
LAST-MODIFIED:20260422T194849Z
UID:10003422-1777712400-1777719600@tennismemphis.org
SUMMARY:Tennis Memphis x Google | West Memphis Community Play Day
DESCRIPTION:Tennis Memphis x Google | West Memphis Community Play Days\nTennis Memphis has teamed up with our friends from Google and the USTA Foundation to bring four Community Play Days to West Memphis! \nSATURDAYS | 9AM – 11AM – APRIL 25 | MAY 2 | MAY 9 | MAY 16 \nEnjoy Red Ball tennis\, expert coaching\, music\, games and prizes! Only $5 and includes lunch! \nLet’s go!!!
URL:https://tennismemphis.org/event/tennis-memphis-x-google-west-memphis-community-play-day-3/
LOCATION:Tilden Rodgers Park\, 825 College Boulevard\, West Memphis\, AR\, 72301\, United States
CATEGORIES:Community Play Days
ATTACH;FMTTYPE=image/png:https://tennismemphis.org/wp-content/uploads/2026/04/West-Memphis-Community-Play-Day-2-5.2.2026.png
END:VEVENT
BEGIN:VEVENT
DTSTART;TZID=America/Chicago:20260509T090000
DTEND;TZID=America/Chicago:20260509T110000
DTSTAMP:20260422T190302
CREATED:20260422T190052Z
LAST-MODIFIED:20260422T194747Z
UID:10003421-1778317200-1778324400@tennismemphis.org
SUMMARY:Tennis Memphis x Google | West Memphis Community Play Day
DESCRIPTION:Tennis Memphis x Google | West Memphis Community Play Days\nTennis Memphis has teamed up with our friends from Google and the USTA Foundation to bring four Community Play Days to West Memphis! \nSATURDAYS | 9AM – 11AM – APRIL 25 | MAY 2 | MAY 9 | MAY 16 \nEnjoy Red Ball tennis\, expert coaching\, music\, games and prizes! Only $5 and includes lunch! \nLet’s go!!!
URL:https://tennismemphis.org/event/tennis-memphis-x-google-west-memphis-community-play-day-2/
LOCATION:Tilden Rodgers Park\, 825 College Boulevard\, West Memphis\, AR\, 72301\, United States
CATEGORIES:Community Play Days
ATTACH;FMTTYPE=image/png:https://tennismemphis.org/wp-content/uploads/2026/04/West-Memphis-Community-Play-Day-3-5.9.2026.png
END:VEVENT
BEGIN:VEVENT
DTSTART;TZID=America/Chicago:20260516T090000
DTEND;TZID=America/Chicago:20260516T110000
DTSTAMP:20260422T190302
CREATED:20260422T190322Z
LAST-MODIFIED:20260422T194937Z
UID:10003423-1778922000-1778929200@tennismemphis.org
SUMMARY:Tennis Memphis x Google | West Memphis Community Play Day
DESCRIPTION:Tennis Memphis x Google | West Memphis Community Play Days\nTennis Memphis has teamed up with our friends from Google and the USTA Foundation to bring four Community Play Days to West Memphis! \nSATURDAYS | 9AM – 11AM – APRIL 25 | MAY 2 | MAY 9 | MAY 16 \nEnjoy Red Ball tennis\, expert coaching\, music\, games and prizes! Only $5 and includes lunch! \nLet’s go!!!
URL:https://tennismemphis.org/event/tennis-memphis-x-google-west-memphis-community-play-day-4/
LOCATION:Tilden Rodgers Park\, 825 College Boulevard\, West Memphis\, AR\, 72301\, United States
CATEGORIES:Community Play Days
ATTACH;FMTTYPE=image/png:https://tennismemphis.org/wp-content/uploads/2026/04/West-Memphis-Community-Play-Day-4-5.16.2026.png
END:VEVENT
END:VCALENDAR